BEGIN:VCALENDAR
VERSION:2.0
PRODID:-//ChamberMaster//Event Calendar 2.0//EN
METHOD:PUBLISH
X-PUBLISHED-TTL:P3D
REFRESH-INTERVAL:P3D
CALSCALE:GREGORIAN
BEGIN:VEVENT
DTSTART:20151219T210000Z
DTEND:20151220T033000Z
X-MICROSOFT-CDO-ALLDAYEVENT:FALSE
SUMMARY:The Diamonds
DESCRIPTION:Silver Bells & Diamonds @ AC4TA\n\n\n\nStroll with your Little Darlin' down Santa Claus Lane.  Silver Bells & Diamonds is great musical entertainment for the entire family!
X-ALT-DESC;FMTTYPE=text/html:Silver Bells &amp\; Diamonds @ AC4TA<br />\n<br />\nStroll with your Little Darlin&#39\; down Santa Claus Lane.&nbsp\; Silver Bells &amp\; Diamonds is great musical entertainment for the entire family!
LOCATION:A Center for the Arts
UID:e.314.27810
SEQUENCE:3
DTSTAMP:20260425T232450Z
URL:https://business.fergusfalls.com/events/details/the-diamonds-12-19-2015-27810
END:VEVENT

END:VCALENDAR
