BEGIN:VCALENDAR
VERSION:2.0
PRODID:-//ChamberMaster//Event Calendar 2.0//EN
METHOD:PUBLISH
X-PUBLISHED-TTL:P3D
REFRESH-INTERVAL:P3D
CALSCALE:GREGORIAN
BEGIN:VEVENT
DTSTART:20180402T194500Z
DTEND:20180402T203000Z
X-MICROSOFT-CDO-ALLDAYEVENT:FALSE
SUMMARY:"The Future of Retail" WCI Seminar
DESCRIPTION:Join us for a viewing of the webinar\, "The Future of Retail" from SaveYour.Town\n\nMonday\, April 2\n\n2:45-3:30 p.m\n\n \n\nWest Central Initiative\n\n1000 Western Ave\, Fergus Falls\n\n\n\n\n\n \n\nRetail is not dead. It's splitting in two. This time\, small retailers are the big winners.\n\nLearn why and what steps retailers in your town can take to thrive into the future.\n\nIt's not business as usual any more - and that's a good thing!!\n\n \n\n** Preregistration is requested: wcif.org/the-future-of-retail.html\n\n \n\nThis event is free to attend\, open to the public\, and will be part of the\n\nLabor Force Development Committee (LFDC) regular meeting
X-ALT-DESC;FMTTYPE=text/html:<p align="LEFT"><span style="font-size: 16px\;"><font face="MyriadPro-Regular"><font face="MyriadPro-Regular">Join us for a viewing of the webinar\, &ldquo\;The Future of Retail&rdquo\;<font face="Arial"> <span style="font-size: 16px\;"><font face="MyriadPro-Regular"><font face="MyriadPro-Regular">from SaveYour.Town</font></font></span></font></font></font></span></p>\n\n<p align="LEFT"><span style="font-size: 16px\;"><b><font face="MyriadPro-Bold"><font face="MyriadPro-Bold">Monday\, April 2</font></font></b></span></p>\n\n<p align="LEFT"><span style="font-size: 16px\;"><b><font face="MyriadPro-Bold"><font face="MyriadPro-Bold">2:45-3:30 p.m</font></font></b></span><br />\n&nbsp\;</p>\n\n<p align="LEFT"><span style="font-size: 16px\;"><b><font face="MyriadPro-Bold"><font face="MyriadPro-Bold">West Central Initiative</font></font></b></span></p>\n\n<p align="LEFT"><span style="font-size: 16px\;"><font face="MyriadPro-Regular"><font face="MyriadPro-Regular">1000 Western Ave\, Fergus Falls</font></font></span><br />\n<br />\n<br />\n&nbsp\;</p>\n\n<p align="LEFT"><span style="font-size: 16px\;"><font face="MyriadPro-Regular"><font face="MyriadPro-Regular">Retail is not dead. It&rsquo\;s splitting in two. This time\, small retailers are the big winners.</font></font></span></p>\n\n<p align="LEFT"><span style="font-size: 16px\;"><font face="MyriadPro-Regular"><font face="MyriadPro-Regular">Learn why and what steps retailers in your town can take to thrive into the future.</font></font></span></p>\n\n<p align="LEFT"><span style="font-size: 16px\;"><font face="MyriadPro-Regular"><font face="MyriadPro-Regular">It&rsquo\;s not business as usual any more - and that&rsquo\;s a good thing!!</font></font></span><br />\n&nbsp\;</p>\n\n<p align="LEFT"><span style="font-size: 16px\;"><font face="MyriadPro-Regular"><font face="MyriadPro-Regular">** Preregistration is requested: wcif.org/the-future-of-retail.html</font></font></span><br />\n&nbsp\;</p>\n\n<p align="LEFT"><span style="font-size: 16px\;"><i><font face="MyriadPro-It"><font face="MyriadPro-It">This event is free to attend\, open to the public\, and will be part of the</font></font></i></span></p>\n\n<p><span style="font-size: 16px\;"><i><font face="MyriadPro-It"><font face="MyriadPro-It">Labor Force Development Committee (LFDC) regular meeting</font></font></i></span></p>\n
LOCATION:West Central Initiative 1000 Western Ave Fergus Falls\, Mn
UID:e.314.46366
SEQUENCE:3
DTSTAMP:20260423T235743Z
URL:https://business.fergusfalls.com/events/details/the-future-of-retail-wci-seminar-46366
END:VEVENT

END:VCALENDAR
