BEGIN:VCALENDAR
VERSION:2.0
PRODID:-//ChamberMaster//Event Calendar 2.0//EN
METHOD:PUBLISH
X-PUBLISHED-TTL:P3D
REFRESH-INTERVAL:P3D
CALSCALE:GREGORIAN
BEGIN:VEVENT
DTSTART:20160505T000000Z
DTEND:20160505T013000Z
X-MICROSOFT-CDO-ALLDAYEVENT:FALSE
SUMMARY:"The Life of Jesus in Music"
DESCRIPTION:"The Life of Jesus in Music"  Directed by Tucker Johnson\, student at Fergus Falls High School\n\nVoice Choir\, Bell Choir\, Praise Band\, Instrumental solos & duets\, vocal soloists  and more.\n\nPublic invited\,       Free
X-ALT-DESC;FMTTYPE=text/html:<span style="font-family: calibri\,sans-serif\;"><span style="color: black\;"><span style="font-size: medium\;">&ldquo\;The Life of Jesus in Music&rdquo\;&nbsp\; Directed by Tucker Johnson\, student at Fergus Falls High School</span></span></span><br />\n<span style="font-family: calibri\,sans-serif\;"><span style="color: black\;"><span style="font-size: medium\;">Voice Choir\, Bell Choir\, Praise Band\, Instrumental solos &amp\; duets\, vocal soloists&nbsp\; and more.</span></span></span><br />\n<span style="font-family: calibri\,sans-serif\;"><span style="color: black\;"><span style="font-size: medium\;">Public invited\,&nbsp\;&nbsp\;&nbsp\;&nbsp\;&nbsp\;&nbsp\; Free</span></span></span><br />\n<br />\n&nbsp\;
LOCATION:Trinity Lutheran Church 1500 W. Cavour Fergus Falls\, MN
UID:e.314.32666
SEQUENCE:3
DTSTAMP:20260425T150337Z
URL:https://business.fergusfalls.com/events/details/the-life-of-jesus-in-music-05-04-2016-32666
END:VEVENT

END:VCALENDAR
