BEGIN:VCALENDAR
VERSION:2.0
PRODID:-//ChamberMaster//Event Calendar 2.0//EN
METHOD:PUBLISH
X-PUBLISHED-TTL:P3D
REFRESH-INTERVAL:P3D
CALSCALE:GREGORIAN
BEGIN:VEVENT
DTSTART:20160205T160000Z
DTEND:20160205T220000Z
X-MICROSOFT-CDO-ALLDAYEVENT:FALSE
SUMMARY:The Market and Stumbeano - Stop In!
DESCRIPTION:This is happening THIS FRIDAY\, Feb 5th!!\n\nYou won't want to miss it!\n\n*Shop & Sip with TWO great events at the market!\n\nStumbeano's Coffee...\n\ntasting 10am-12pm.\n\nThey are excited to share some of their Fair Trade coffees and invite you to this special tasting event.\n\n\nHot Chocolate Party!\n\n2pm-4pm\n\nEnjoy a steamy cup of hot cocoa!\n\nTop it off with a locally made artisan marshmallow.\n\nThe debut of\n\nSugarBomb!
X-ALT-DESC;FMTTYPE=text/html:<div class="text_exposed_root text_exposed" id="id_56b36abb1fc3c9380102917">\n<p>This is happening THIS FRIDAY\, Feb 5th!!<br />\nYou won&#39\;t want to miss it!</p>\n\n<p>*Shop &amp\; Sip with TWO great events at the market!<br />\nStumbeano&#39\;s Coffee<span class="text_exposed_hide">...</span><br />\n<span class="text_exposed_show">tasting 10am-12pm.<br />\nThey are excited to share some of their Fair Trade coffees and invite you to this special tasting event.</span></p>\n\n<div class="text_exposed_show">\n<p>Hot Chocolate Party!<br />\n2pm-4pm<br />\nEnjoy a steamy cup of hot cocoa!<br />\nTop it off with a locally made artisan marshmallow.<br />\nThe debut of<br />\nSugarBomb!</p>\n</div>\n</div>\n
LOCATION:10am-12 pm 2pm-4pm
UID:e.314.31107
SEQUENCE:3
DTSTAMP:20260425T215458Z
URL:https://business.fergusfalls.com/events/details/the-market-and-stumbeano-stop-in-02-05-2016-31107
END:VEVENT

END:VCALENDAR
