BEGIN:VCALENDAR
VERSION:2.0
PRODID:-//ChamberMaster//Event Calendar 2.0//EN
METHOD:PUBLISH
X-PUBLISHED-TTL:P3D
REFRESH-INTERVAL:P3D
CALSCALE:GREGORIAN
BEGIN:VEVENT
DTSTART:20161217T140000Z
DTEND:20161218T000000Z
X-MICROSOFT-CDO-ALLDAYEVENT:FALSE
SUMMARY:The Market- Holiday Open House!
DESCRIPTION:The Market\n\nHoliday Open House!\n\nSamples and Drawings Daily!\n\nServing Hot Apple Cider
X-ALT-DESC;FMTTYPE=text/html:The Market<br />\nHoliday Open House!<br />\nSamples and Drawings Daily!<br />\nServing Hot Apple Cider
LOCATION:The Market 120 S. Union Ave. Fergus Falls\, MN 56537 (218) 998-3663
UID:e.314.36980
SEQUENCE:3
DTSTAMP:20260425T022421Z
URL:https://business.fergusfalls.com/events/details/the-market-holiday-open-house-36980
END:VEVENT

END:VCALENDAR
