BEGIN:VCALENDAR
VERSION:2.0
PRODID:-//ChamberMaster//Event Calendar 2.0//EN
METHOD:PUBLISH
X-PUBLISHED-TTL:P3D
REFRESH-INTERVAL:P3D
CALSCALE:GREGORIAN
BEGIN:VEVENT
DTSTART;VALUE=DATE:20151209
DTEND;VALUE=DATE:20151210
TRANSP:TRANSPARENT
X-MICROSOFT-CDO-ALLDAYEVENT:TRUE
SUMMARY:The Market - Ladies Day!
DESCRIPTION:The Market\n\nA special day for ladies to shop!
X-ALT-DESC;FMTTYPE=text/html:<span style="font-size: 16px\;"><span style="font-size: 20px\;"><strong><span style="color: rgb(0\, 128\, 0)\;">The Market</span></strong></span><br />\n<span style="color: rgb(255\, 0\, 0)\;">A special day for ladies to shop!</span></span>
LOCATION:120 S Union Avenue
UID:e.314.27811
SEQUENCE:3
DTSTAMP:20260425T233358Z
URL:https://business.fergusfalls.com/events/details/the-market-ladies-day-12-09-2015-27811
END:VEVENT

END:VCALENDAR
