BEGIN:VCALENDAR
VERSION:2.0
PRODID:-//ChamberMaster//Event Calendar 2.0//EN
METHOD:PUBLISH
X-PUBLISHED-TTL:P3D
REFRESH-INTERVAL:P3D
CALSCALE:GREGORIAN
BEGIN:VEVENT
DTSTART:20161207T140000Z
DTEND:20161208T020000Z
X-MICROSOFT-CDO-ALLDAYEVENT:FALSE
SUMMARY:The Market - Ladies Day!
DESCRIPTION:The Market - Ladies Day!\n\nDrawings and Samples Daily!
X-ALT-DESC;FMTTYPE=text/html:The Market - Ladies Day!<br />\nDrawings and Samples Daily!
LOCATION:The Market 120 S. Union Ave. Fergus Falls\, MN 56537 (218) 998-3663
UID:e.314.36977
SEQUENCE:3
DTSTAMP:20260425T022337Z
URL:https://business.fergusfalls.com/events/details/the-market-ladies-day-36977
END:VEVENT

END:VCALENDAR
