BEGIN:VCALENDAR
VERSION:2.0
PRODID:-//ChamberMaster//Event Calendar 2.0//EN
METHOD:PUBLISH
X-PUBLISHED-TTL:P3D
REFRESH-INTERVAL:P3D
CALSCALE:GREGORIAN
BEGIN:VEVENT
DTSTART;VALUE=DATE:20151216
DTEND;VALUE=DATE:20151217
TRANSP:TRANSPARENT
X-MICROSOFT-CDO-ALLDAYEVENT:TRUE
SUMMARY:The Market - Mens Day!
DESCRIPTION:The Market\n\nA special day for the guys to shop!
X-ALT-DESC;FMTTYPE=text/html:<span style="font-size: 16px\;"><span style="font-size: 20px\;"><strong><span style="color: rgb(0\, 128\, 0)\;">The Market</span></strong></span><br />\n<span style="color: rgb(255\, 0\, 0)\;">A special day for the guys to shop!</span></span>
LOCATION:120 S Union Avenue
UID:e.314.27812
SEQUENCE:3
DTSTAMP:20260425T233146Z
URL:https://business.fergusfalls.com/events/details/the-market-mens-day-12-16-2015-27812
END:VEVENT

END:VCALENDAR
