BEGIN:VCALENDAR
VERSION:2.0
PRODID:-//ChamberMaster//Event Calendar 2.0//EN
METHOD:PUBLISH
X-PUBLISHED-TTL:P3D
REFRESH-INTERVAL:P3D
CALSCALE:GREGORIAN
BEGIN:VEVENT
DTSTART:20161125T140000Z
DTEND:20161126T020000Z
X-MICROSOFT-CDO-ALLDAYEVENT:FALSE
SUMMARY:The Market - Plaid Friday
DESCRIPTION:The Market - Plaid Friday\n\n(Wear Plaid to the Market and receive a coupon!)
X-ALT-DESC;FMTTYPE=text/html:The Market - Plaid Friday<br />\n(Wear Plaid to the Market and receive a coupon!)
LOCATION:The Market 120 S. Union Ave. Fergus Falls\, MN 56537 (218) 998-3663
UID:e.314.36976
SEQUENCE:3
DTSTAMP:20260425T040615Z
URL:https://business.fergusfalls.com/events/details/the-market-plaid-friday-36976
END:VEVENT

END:VCALENDAR
