BEGIN:VCALENDAR
VERSION:2.0
PRODID:-//ChamberMaster//Event Calendar 2.0//EN
METHOD:PUBLISH
X-PUBLISHED-TTL:P3D
REFRESH-INTERVAL:P3D
CALSCALE:GREGORIAN
BEGIN:VEVENT
DTSTART:20171201T010000Z
DTEND:20171201T030000Z
X-MICROSOFT-CDO-ALLDAYEVENT:FALSE
SUMMARY:The Reason: A Family Christmas Experience
DESCRIPTION:The Reason is a high-energy night of music and a message about the Hope heaven sent that first Christmas night. Bring the whole family\, and let's make Jesus known in your city this Christmas season! The 2017 Lineup includes artists Jeremy Camp and Micah Tyler\, with speaker and founder of PULSE Nick Hall.
X-ALT-DESC;FMTTYPE=text/html:The Reason is a high-energy night of music and a message about the Hope heaven sent that first Christmas night. Bring the whole family\, and let&#39\;s make Jesus known in your city this Christmas season! The 2017 Lineup includes artists Jeremy Camp and Micah Tyler\, with speaker and founder of PULSE Nick Hall.
LOCATION:Lake Geneva Christian Center
UID:e.314.42727
SEQUENCE:3
DTSTAMP:20260424T074146Z
URL:https://business.fergusfalls.com/events/details/the-reason-a-family-christmas-experience-42727
END:VEVENT

END:VCALENDAR
