BEGIN:VCALENDAR
VERSION:2.0
PRODID:-//ChamberMaster//Event Calendar 2.0//EN
METHOD:PUBLISH
X-PUBLISHED-TTL:P3D
REFRESH-INTERVAL:P3D
CALSCALE:GREGORIAN
BEGIN:VEVENT
DTSTART:20160306T200000Z
DTEND:20160306T220000Z
X-MICROSOFT-CDO-ALLDAYEVENT:FALSE
SUMMARY:The Rimers of Eldritch
DESCRIPTION:Tickets are on sale now for the Minnesota State Community and Technical College Theatre Department?s upcoming performances of The Rimers of Eldritch\, the story of a small town grappling with its secrets.\nThe drama by Lanford Wilson portrays the residents of the decaying Bible belt town of Eldritch who are dealing with a sexual assault and the murder of an elderly hermit. While the community prides itself on its morality\, its capacity for viciousness and cruelty are uncovered as its secrets are bared.\n\nThe play is directed by M State theatre instructor Stefanie Gerhardson.\n\nCast members are Hailey Formo (Wadena)\; Jessica Gullickson\, Austin Begley\, Connor Murphy\, Julia Christenson\, Teresa Widiger\, Amy Melbye and Samantha Andrews (Fergus Falls)\; Nelly Winrod (Robbinsdale)\; Breanna Roen and Gaige Jevne (Underwood)\; Mykey Watchorn (Frazee)\; Emily Hough (Elbow Lake)\; Jacob Haugen and Cassidy Anderson (Henning)\; Megan Riedel (Clarissa)\; Jonathon Jensen (Pelican Rapids)\, Noah Dressler (Morris) and Jacob Seeman (St. Cloud).\n\nPerformances are 7:30 p.m. Friday and Saturday\, March 4-5\, and Thursday through Sunday\, March 10-12\; with a matinee showing at 2 p.m. Sunday\, March 6\, at Waage Theatre on M State?s Fergus Falls campus.\n\nTickets are $9 in advance and $11 at the door for adults\, and $7 in advance and $8 at the door for students. Tickets can be purchased at the M State box office from 9 a.m. to 4 p.m. Monday through Friday and one hour prior to the performance\, by calling 218.736.1600 or online at mstatetickets.com.
X-ALT-DESC;FMTTYPE=text/html:Tickets are on sale now for the Minnesota State Community and Technical College Theatre Department?s upcoming performances of <em>The Rimers of Eldritch</em>\, the story of a small town grappling with its secrets.\n<p>The drama by Lanford Wilson portrays the residents of the decaying Bible belt town of Eldritch who are dealing with a sexual assault and the murder of an elderly hermit. While the community prides itself on its morality\, its capacity for viciousness and cruelty are uncovered as its secrets are bared.</p>\n\n<p>The play is directed by M State theatre instructor Stefanie Gerhardson.</p>\n\n<p>Cast members are Hailey Formo (Wadena)\; Jessica Gullickson\, Austin Begley\, Connor Murphy\, Julia Christenson\, Teresa Widiger\, Amy Melbye and Samantha Andrews (Fergus Falls)\; Nelly Winrod (Robbinsdale)\; Breanna Roen and Gaige Jevne (Underwood)\; Mykey Watchorn (Frazee)\; Emily Hough (Elbow Lake)\; Jacob Haugen and Cassidy Anderson (Henning)\; Megan Riedel (Clarissa)\; Jonathon Jensen (Pelican Rapids)\, Noah Dressler (Morris) and Jacob Seeman (St. Cloud).</p>\n\n<p>Performances are 7:30 p.m. Friday and Saturday\, March 4-5\, and Thursday through Sunday\, March 10-12\; with a matinee showing at 2 p.m. Sunday\, March 6\, at Waage Theatre on M State?s Fergus Falls campus.</p>\n\n<p>Tickets are $9 in advance and $11 at the door for adults\, and $7 in advance and $8 at the door for students. Tickets can be purchased at the M State box office from 9 a.m. to 4 p.m. Monday through Friday and one hour prior to the performance\, by calling 218.736.1600 or online at mstatetickets.com.</p>\n
LOCATION:Waage Theatre
UID:e.314.31746
SEQUENCE:3
DTSTAMP:20260425T182620Z
URL:https://business.fergusfalls.com/events/details/the-rimers-of-eldritch-03-06-2016-31746
END:VEVENT

END:VCALENDAR
