BEGIN:VCALENDAR
VERSION:2.0
PRODID:-//ChamberMaster//Event Calendar 2.0//EN
METHOD:PUBLISH
X-PUBLISHED-TTL:P3D
REFRESH-INTERVAL:P3D
CALSCALE:GREGORIAN
BEGIN:VEVENT
DTSTART:20171117T230000Z
DTEND:20171118T003000Z
X-MICROSOFT-CDO-ALLDAYEVENT:FALSE
SUMMARY:The Salvation Army Kettle Kick-off at Service Food
DESCRIPTION:The Salvation Army Kettle Kick-off is the beginning of our Red Kettle season. This is the official event that begins our fundraising event that helps to fund all the programs we offer to the community. Please come by Service Foods on Friday Nov. 17 and help us kick-off our Red Kettle Campaign.
X-ALT-DESC;FMTTYPE=text/html:<span style="color: rgb(75\, 79\, 86)\; text-transform: none\; text-indent: 0px\; letter-spacing: normal\; font-family: Helvetica\, Arial\, sans-serif\; font-size: 14px\; font-style: normal\; font-weight: 400\; word-spacing: 0px\; float: none\; display: inline !important\; white-space: normal\; orphans: 2\; widows: 2\; background-color: rgb(255\, 255\, 255)\; font-variant-ligatures: normal\; font-variant-caps: normal\; -webkit-text-stroke-width: 0px\; text-decoration-style: initial\; text-decoration-color: initial\;">The Salvation Army Kettle Kick-off is the beginning of our Red Kettle season. This is the official event that begins our fundraising event that helps to fund all the programs we offer to the community. Please come by Service Foods on Friday Nov. 17 and help us kick-off our Red Kettle Campaign.</span>
LOCATION:Service Food Market 321 W Lincoln Ave
UID:e.314.43092
SEQUENCE:3
DTSTAMP:20260424T074827Z
URL:https://business.fergusfalls.com/events/details/the-salvation-army-kettle-kick-off-at-service-food-43092
END:VEVENT

END:VCALENDAR
