BEGIN:VCALENDAR
VERSION:2.0
PRODID:-//ChamberMaster//Event Calendar 2.0//EN
METHOD:PUBLISH
X-PUBLISHED-TTL:P3D
REFRESH-INTERVAL:P3D
CALSCALE:GREGORIAN
BEGIN:VEVENT
DTSTART:20160428T233000Z
DTEND:20160429T013000Z
X-MICROSOFT-CDO-ALLDAYEVENT:FALSE
SUMMARY:The Spot Panini & Wine hosts Blowing in the Wind
DESCRIPTION:The Spot Panini & Wine \n\nJoin us painting a canvas at this relaxing\, fun painting party. First drink included!\n\n\n\nNo Artistic Ability Needed\n\n\n\nThese social painting parties are a fun\, relaxing environment to enjoy your favorite beverage and chat with friends while painting a masterpiece. We take care of the setup and clean up. Just bring yourself or a few friends and be ready to have fun! We provide everything you'll need to paint including step by step instructions. Take home your artwork at the end of this event.\n\n\n\nGet ready to relax\, unwind and paint\n\n\n\nWe start painting at 6:30 pm\, but try to get there 15 minutes early to get signed in and find your seat. Aprons will be provided\, but consider wearing something you wouldn't mind getting p...aint on. Register early\, class size is limited. We do not have reserved seating\, so if you are attending with a group\, one of your group should be there early enough to save seats for everyone.\n\n\n\nBeer and wine available. Food is available as well. Space is limited where we will be painting\, so if you would like dinner try to arrive earlier in order to be ready to begin painting on time.\n\n\n\nTo reserve your seat\, sign up and pay in advance through the website. PayPal or credit card accepted. Sign up early\, events do sell out. Unpaid seats can not be guaranteed.\n\n\n\nCancellation policy: Creatively Uncorked offers an art instruction and entertainment event that can be compared to a concert or theater event. We realize that unforeseen things happen\, but we also would appreciate the time to offer the seat to others on our waiting list and fill the spot. Therefore NO REFUNDS will be given 48-hours prior to your scheduled class. Due to the time it takes to prepare the class\, NO refund or store credit is given for last minute cancellations or no shows. Your ticket is fully transferrable\, however\, and you may let someone of your own choosing use your ticket in your absence. Cancellations should be made via email.
X-ALT-DESC;FMTTYPE=text/html:<strong><span style="font-size: 20px\;"><span style="color: rgb(255\, 0\, 0)\;"><em>The Spot Panini &amp\; Wine</em></span></span><span style="font-size: 16px\;"> </span></strong>\n\n<div class="text_exposed_root text_exposed" id="id_5707b767bd49c0f91962753"><span class="_4n-j fsl">Join us painting a canvas at this relaxing\, fun painting party. First drink included!<br />\n<br />\nNo Artistic Ability Needed<br />\n<br />\nThese social painting parties are a fun\, relaxing environment to enjoy your favorite beverage and chat with friends while painting a masterpiece. We take care of the setup and clean up. Just bring yourself or a few friends and be ready to have fun! We provide everything you&rsquo\;ll need to paint including step by step instructions. Take home your artwork at the end of this event.<br />\n<br />\nGet ready to relax\, unwind and paint<br />\n<br />\nWe start painting at 6:30 pm\, but try to get there 15 minutes early to get signed in and find your seat. Aprons will be provided\, but consider wearing something you wouldn&rsquo\;t mind getting p<span class="text_exposed_hide">...</span><span class="text_exposed_show">aint on. Register early\, class size is limited. We do not have reserved seating\, so if you are attending with a group\, one of your group should be there early enough to save seats for everyone.<br />\n<br />\nBeer and wine available. Food is available as well. Space is limited where we will be painting\, so if you would like dinner try to arrive earlier in order to be ready to begin painting on time.<br />\n<br />\nTo reserve your seat\, sign up and pay in advance through the website. PayPal or credit card accepted. Sign up early\, events do sell out. Unpaid seats can not be guaranteed.<br />\n<br />\nCancellation policy: Creatively Uncorked offers an art instruction and entertainment event that can be compared to a concert or theater event. We realize that unforeseen things happen\, but we also would appreciate the time to offer the seat to others on our waiting list and fill the spot. Therefore NO REFUNDS will be given 48-hours prior to your scheduled class. Due to the time it takes to prepare the class\, NO refund or store credit is given for last minute cancellations or no shows. Your ticket is fully transferrable\, however\, and you may let someone of your own choosing use your ticket in your absence. Cancellations should be made via email.</span></span></div>\n
LOCATION:The Spot Panini & Wine Downtown Lincoln Ave
UID:e.314.22016
SEQUENCE:3
DTSTAMP:20260425T163148Z
URL:https://business.fergusfalls.com/events/details/the-spot-panini-wine-hosts-blowing-in-the-wind-04-28-2016-22016
END:VEVENT

END:VCALENDAR
