BEGIN:VCALENDAR
VERSION:2.0
PRODID:-//ChamberMaster//Event Calendar 2.0//EN
METHOD:PUBLISH
X-PUBLISHED-TTL:P3D
REFRESH-INTERVAL:P3D
CALSCALE:GREGORIAN
BEGIN:VEVENT
DTSTART:20171116T003000Z
DTEND:20171116T020000Z
X-MICROSOFT-CDO-ALLDAYEVENT:FALSE
SUMMARY:The Year of Play
DESCRIPTION:Workshop for Local Makers\, Artists\, and Creatives.\n\nAttend the workshop\n\nCome up with a project that promotes play in Fergus Falls and \n\nget up to $500 to make it happen.
X-ALT-DESC;FMTTYPE=text/html:Workshop for Local Makers\, Artists\, and Creatives.<br />\nAttend the workshop<br />\nCome up with a project that promotes play in Fergus Falls and&nbsp\;<br />\nget up to $500 to make it happen.<br />\n&nbsp\;
LOCATION:The Spot Panini & Wine 220 W Lincoln Ave. Fergus Falls
UID:e.314.43084
SEQUENCE:3
DTSTAMP:20260424T074110Z
URL:https://business.fergusfalls.com/events/details/the-year-of-play-43084
END:VEVENT

END:VCALENDAR
