BEGIN:VCALENDAR
VERSION:2.0
PRODID:-//ChamberMaster//Event Calendar 2.0//EN
METHOD:PUBLISH
X-PUBLISHED-TTL:P3D
REFRESH-INTERVAL:P3D
CALSCALE:GREGORIAN
BEGIN:VEVENT
DTSTART:20160110T190000Z
DTEND:20160110T210000Z
X-MICROSOFT-CDO-ALLDAYEVENT:FALSE
SUMMARY:Thrifty White Pharmacy Grand Opening
DESCRIPTION:Thrifty White Pharmacy will be having the Grand Opening of its new pharmacy at the new clinic in Fergus Falls on Sunday Jan 10th at 1- 3pm.   We will be serving coffee and cookies and have a pretty sweet gift basket to give away.  All are invited!
X-ALT-DESC;FMTTYPE=text/html:<font size="2">Thrifty White Pharmacy will be having the Grand Opening of its new pharmacy at the new clinic in Fergus Falls on Sunday Jan 10th at 1- 3pm.&nbsp\;&nbsp\; We will be serving coffee and cookies and have a pretty sweet gift basket to give away.&nbsp\; All are invited! </font><br />\n<br />\n&nbsp\;
LOCATION:111. West Vernon Ave
UID:e.314.28099
SEQUENCE:3
DTSTAMP:20260425T215036Z
URL:https://business.fergusfalls.com/events/details/thrifty-white-pharmacy-grand-opening-01-10-2016-28099
END:VEVENT

END:VCALENDAR
