BEGIN:VCALENDAR
VERSION:2.0
PRODID:-//ChamberMaster//Event Calendar 2.0//EN
METHOD:PUBLISH
X-PUBLISHED-TTL:P3D
REFRESH-INTERVAL:P3D
CALSCALE:GREGORIAN
BEGIN:VEVENT
DTSTART:20160815T150000Z
DTEND:20160815T153000Z
X-MICROSOFT-CDO-ALLDAYEVENT:FALSE
SUMMARY:Thrifty White Pharmacy Ribbon Cutting
DESCRIPTION:Thrifty White Pharmacy Has A New Home ~ Let's Celebrate!\n\nNew Location & Ribbon Cutting\n\nMonday August 15\, 2016 at 10:00 am \n\nThe drug store will move into a new location at the intersection of Lincoln Avenue and Tower Road
X-ALT-DESC;FMTTYPE=text/html:<span style="color: rgb(0\, 0\, 255)\;"><span style="font-size: 14px\;"><strong>Thrifty White Pharmacy Has A New Home ~ Let&#39\;s Celebrate!</strong></span></span><br />\n<strong><em>New Location &amp\; Ribbon Cutting<br />\nMonday August 15\, 2016&nbsp\;at 10:00 am </em></strong>\n\n<p class="p1"><span class="s1">The drug store will move into a new location at the intersection of Lincoln Avenue and Tower Road</span></p>\n
LOCATION:The drug store will move into a new location at the intersection of Lincoln Avenue and Tower Road
UID:e.314.33093
SEQUENCE:3
DTSTAMP:20260425T110823Z
URL:https://business.fergusfalls.com/events/details/thrifty-white-pharmacy-ribbon-cutting-08-15-2016-33093
END:VEVENT

END:VCALENDAR
