BEGIN:VCALENDAR
VERSION:2.0
PRODID:-//ChamberMaster//Event Calendar 2.0//EN
METHOD:PUBLISH
X-PUBLISHED-TTL:P3D
REFRESH-INTERVAL:P3D
CALSCALE:GREGORIAN
BEGIN:VEVENT
DTSTART:20180925T133000Z
DTEND:20180925T203000Z
X-MICROSOFT-CDO-ALLDAYEVENT:FALSE
SUMMARY:THRIVE- Building resiliency through strategies that improve personal and community well-being
DESCRIPTION:THRIVE Building resiliency through strategies that improve  personal and  community well-being Legacy Hall  M-State Fergus Falls SEPTEMBER 25\, 2018 8:30am-3:30pm\n\nLunch Included \n\n\n\nBuilding resiliency through strategies that improve personal and  community  well-being Many of us hit the ground running each morning   completely unaware of the way our thought processes impact us. We make promises to do better only to grow frustrated when we slip back into our old habits. \n\n \n\nIt takes practice to develop self-care\, but resilience is a skill that can be learned. \n\n \n\nYou're invited to a day-long workshop where you will learn how one               communities focus on gratitude\, kindness and focusing on the good things in our lives helped it become more resilient.\n\n \n\nLearn how social connection can be the single greatest predictor of longevity\,  absence of disease\, and quality of life.\n\n \n\nLearn how you can incorporate proven resiliency tools into the lives of students\, families\, individuals\, and businesses. You'll also hear how this work is changing lives. \n\n \n\nThere will be focused time to work in small groups to develop strategies for your area of influence. You'll join with others from schools\, businesses\, healthcare\, and government officials to create a plan that can meet both the needs of individuals as well as the community.\n\n\n\nTRAINERS: \n\nDr. Corey Martin and Dr. Christy Secor bring humor\, experience\, and knowledge to their unique background and training as a physician and nurse to the Bounce Back Project\, a program  promoting personal and   community health through  happiness using simple tools anyone can do. They are also both Certified Daring Way  Facilitators who have found value in the work of author and researcher\, Dr. Bren  Brown. It is work that has allowed them to live and encourage  others using concepts of resilience\,courage\, purpose\, and authenticity. \n\n \n\nFor More Information contact  Jason Bergstrand at  jason.bergstrand@co.clay.mn.us or  Natalie Knutson at nknutson@lrhc.org Please Register with the link below: https://www.eventbrite.com/e/thrive-tickets47917117388
X-ALT-DESC;FMTTYPE=text/html:<span style="font-size: 20px\;"><strong>THRIVE Building resiliency through&nbsp\;strategies that improve&nbsp\; personal and&nbsp\; community&nbsp\;well-being Legacy Hall&nbsp\; M-State Fergus Falls SEPTEMBER 25\, 2018 8:30am-3:30pm<br />\nLunch Included </strong></span><br />\n<br />\nBuilding resiliency through&nbsp\;strategies that improve&nbsp\;personal and&nbsp\; community&nbsp\; well-being Many of us hit the ground running each morning &ndash\; completely unaware of the way our thought processes impact us. We make promises to do better only to grow frustrated when we slip back into our old habits.&nbsp\;<br />\n&nbsp\;<br />\nIt takes practice to develop self-care\, but resilience is a skill that can be learned.&nbsp\;<br />\n&nbsp\;<br />\nYou&rsquo\;re invited to a day-long workshop where you will learn how one&nbsp\;&nbsp\;&nbsp\;&nbsp\;&nbsp\;&nbsp\;&nbsp\;&nbsp\;&nbsp\;&nbsp\;&nbsp\;&nbsp\;&nbsp\;&nbsp\; communities focus on gratitude\, kindness and focusing on the good things in our lives helped it become more resilient.<br />\n&nbsp\;<br />\nLearn how social connection can be the single greatest predictor of longevity\,&nbsp\; absence of disease\, and quality of life.<br />\n&nbsp\;<br />\nLearn how you can incorporate proven resiliency tools into the lives of students\, families\, individuals\, and businesses. You&rsquo\;ll also hear how this work is changing lives.&nbsp\;<br />\n&nbsp\;<br />\nThere will be focused time to work in small groups to develop strategies for your area of influence. You&rsquo\;ll join with others from schools\, businesses\, healthcare\, and government officials to create a plan that can meet both the needs of individuals as well as the&nbsp\;community.<br />\n<br />\n<strong>TRAINERS:&nbsp\;</strong><br />\nDr. Corey Martin and Dr. Christy Secor bring humor\, experience\, and knowledge to their unique background and training as a physician and nurse to the Bounce Back Project\, a program&nbsp\; promoting personal and&nbsp\;&nbsp\; community health through&nbsp\; happiness using simple tools anyone can do. They are also both Certified Daring Way&trade\; Facilitators who have found value in the work of author and researcher\, Dr. Bren&eacute\; Brown. It is work that has allowed them to live and encourage&nbsp\; others using concepts of resilience\,courage\, purpose\, and authenticity.&nbsp\;<br />\n&nbsp\;<br />\nFor More Information contact&nbsp\; Jason Bergstrand&nbsp\;at &nbsp\;<a href="mailto:jason.bergstrand@co.clay.mn.us">jason.bergstrand@co.clay.mn.us</a> or&nbsp\; Natalie Knutson at <a href="mailto:nknutson@lrhc.org">nknutson@lrhc.org</a> Please Register with the link below: <a href="https://www.eventbrite.com/e/thrive-tickets47917117388">https://www.eventbrite.com/e/thrive-tickets47917117388</a>
LOCATION:
UID:e.314.50342
SEQUENCE:3
DTSTAMP:20260423T165746Z
URL:https://business.fergusfalls.com/events/details/thrive-building-resiliency-through-strategies-that-improve-personal-and-community-well-being-50342
END:VEVENT

END:VCALENDAR
