BEGIN:VCALENDAR
VERSION:2.0
PRODID:-//ChamberMaster//Event Calendar 2.0//EN
METHOD:PUBLISH
X-PUBLISHED-TTL:P3D
REFRESH-INTERVAL:P3D
CALSCALE:GREGORIAN
BEGIN:VEVENT
DTSTART:20160528T220000Z
DTEND:20160529T020000Z
X-MICROSOFT-CDO-ALLDAYEVENT:FALSE
SUMMARY:Thumper Pond Summer Kick Off & Golf Open House
DESCRIPTION:Summer Kick Off & Golf Open House\n\n\n\n	\n		\n			\n			\n\n			Join us Saturday May 28th for live music and fun as we feature Larry Donner and Chef Mike on the Willy T's patio from 5-9 pm for our Annual Summer Kick Off!\n\n			 \n\n			Fling or Swing into Katey Pond\n\n			25% Off All 2016 Apparel\n\n			2 Golf Memberships to be Given Away\n\n			Golf Club Give Aways\n\n			New Happy Hour Specials\n\n			New Summer Drink Features\n\n			Hourly Drawings Starting at 6 pm  \n\n			 \n\n			Over $3\,000 in prizes - all you have to do is show up and have a great time.
X-ALT-DESC;FMTTYPE=text/html:<span style="font-size: 16pt\;">Summer Kick Off &amp\; Golf Open House</span>\n\n<div class="ContentMaxWidth" style="max-width: 100%\;">\n<table border="0" cellpadding="0" cellspacing="0" class="CC_NoEdit ContentWidth" style="width: 98%\; margin-right: auto\; margin-left: auto\; min-width: 98% !important\;" width="100%">\n	<tbody>\n		<tr>\n			<td align="left" class="MainText Content Introduction" colspan="1" rowspan="1" style="padding: 9px 10px 8px\; color: rgb(0\, 0\, 0)\; line-height: 1.3\; font-family: Arial\,Helvetica\,sans-serif\; font-size: 11pt\; text-decoration: none\;" valign="top">\n			<div class="SubheadingText GreetingText" style="color: rgb(0\, 0\, 0)\; line-height: 1.3\; font-family: Arial\,Helvetica\,sans-serif\; font-size: 12pt\; text-decoration: none\;"><br />\n			<span style="color: black\; font-size: 11pt\;">Join us Saturday May 28th for live music and fun as we feature Larry Donner and Chef Mike on the Willy T&#39\;s patio from 5-9 pm for our Annual Summer Kick Off!</span></div>\n\n			<div class="SubheadingText GreetingText" style="color: rgb(0\, 0\, 0)\; line-height: 1.3\; font-family: Arial\,Helvetica\,sans-serif\; font-size: 12pt\; text-decoration: none\;">&nbsp\;</div>\n\n			<div align="center" class="SubheadingText GreetingText" style="text-align: center\; color: rgb(0\, 0\, 0)\; line-height: 1.3\; font-family: Arial\,Helvetica\,sans-serif\; font-size: 12pt\; text-decoration: none\;"><strong><span style="color: black\; font-size: 11pt\;">Fling or Swing into Katey Pond</span></strong></div>\n\n			<div align="center" class="SubheadingText GreetingText" style="text-align: center\; color: rgb(0\, 0\, 0)\; line-height: 1.3\; font-family: Arial\,Helvetica\,sans-serif\; font-size: 12pt\; text-decoration: none\;"><strong><span style="color: black\; font-size: 11pt\;">25% Off All 2016 Apparel</span></strong></div>\n\n			<div align="center" class="SubheadingText GreetingText" style="text-align: center\; color: rgb(0\, 0\, 0)\; line-height: 1.3\; font-family: Arial\,Helvetica\,sans-serif\; font-size: 12pt\; text-decoration: none\;"><strong><span style="color: black\; font-size: 11pt\;">2 Golf Memberships to be Given Away</span></strong></div>\n\n			<div align="center" class="SubheadingText GreetingText" style="text-align: center\; color: rgb(0\, 0\, 0)\; line-height: 1.3\; font-family: Arial\,Helvetica\,sans-serif\; font-size: 12pt\; text-decoration: none\;"><strong><span style="color: black\; font-size: 11pt\;">Golf Club Give Aways</span></strong></div>\n\n			<div align="center" class="SubheadingText GreetingText" style="text-align: center\; color: rgb(0\, 0\, 0)\; line-height: 1.3\; font-family: Arial\,Helvetica\,sans-serif\; font-size: 12pt\; text-decoration: none\;"><strong><span style="color: black\; font-size: 11pt\;">New Happy Hour Specials</span></strong></div>\n\n			<div align="center" class="SubheadingText GreetingText" style="text-align: center\; color: rgb(0\, 0\, 0)\; line-height: 1.3\; font-family: Arial\,Helvetica\,sans-serif\; font-size: 12pt\; text-decoration: none\;"><strong><span style="color: black\; font-size: 11pt\;">New Summer Drink Features</span></strong></div>\n\n			<div align="center" class="SubheadingText GreetingText" style="text-align: center\; color: rgb(0\, 0\, 0)\; line-height: 1.3\; font-family: Arial\,Helvetica\,sans-serif\; font-size: 12pt\; text-decoration: none\;"><strong><span style="color: black\; font-size: 11pt\;">Hourly Drawings Starting at 6 pm &nbsp\;</span></strong></div>\n\n			<div class="SubheadingText GreetingText" style="color: rgb(0\, 0\, 0)\; line-height: 1.3\; font-family: Arial\,Helvetica\,sans-serif\; font-size: 12pt\; text-decoration: none\;"><span style="color: black\; font-size: 11pt\;">&nbsp\;</span></div>\n\n			<div class="SubheadingText GreetingText" style="color: rgb(0\, 0\, 0)\; line-height: 1.3\; font-family: Arial\,Helvetica\,sans-serif\; font-size: 12pt\; text-decoration: none\;"><span style="color: black\; font-size: 11pt\;">Over $3\,000 in prizes - all you have to do is show up and have a great time. <span class="rangySelectionBoundary" id="selectionBoundary_1464195793197_945146846911116" style="line-height: 0\; display: none\;">&iuml\;&raquo\;&iquest\;</span></span></div>\n			</td>\n		</tr>\n	</tbody>\n</table>\n</div>\n
LOCATION:Thumper Pond Resort Willy T's Patio 300 Thumper Lodge Road Ottertail\, MN 56571
UID:e.314.32764
SEQUENCE:3
DTSTAMP:20260425T145733Z
URL:https://business.fergusfalls.com/events/details/thumper-pond-summer-kick-off-golf-open-house-05-28-2016-32764
END:VEVENT

END:VCALENDAR
