BEGIN:VCALENDAR
VERSION:2.0
PRODID:-//ChamberMaster//Event Calendar 2.0//EN
METHOD:PUBLISH
X-PUBLISHED-TTL:P3D
REFRESH-INTERVAL:P3D
CALSCALE:GREGORIAN
BEGIN:VEVENT
DTSTART:20180726T230000Z
DTEND:20180727T010000Z
X-MICROSOFT-CDO-ALLDAYEVENT:FALSE
SUMMARY:Thursday Summer Story Walks
DESCRIPTION:Fergus Falls Public Library\n\n\n\nOur weekly children's programs will be in the parks again this summer! Stop by anytime during the Story Walk hours to enjoy a self-led picture book walk around the park\, make something creative at the Kaddatz Family Art Table\, and interact with other fun outdoor activities.\n\n\n\nThis year's picture books will feature Minnesota authors and illustrators. A new picture book each week.\n\n\n\nThursday evening Story Walks will be held at Roosevelt Park in conjunction with AC4TA's Concerts in the Park. \n\n\n\nThursdays\n\n6:00 - 8:00pm\n\nJune 14 & 21\n\nJuly 5\, 12\, 19\, & 26 (July 12 is downtown)\n\nAugust 9\n\nLocation: Roosevelt Park\n\n(in conjuction with AC4TA's Concerts in Park)\n\n\n\nSupported by The Friends of the Fergus Falls Public Library\, Kaddatz Galleries\, Fergus Falls Department of Parks and Recreation\, and A Center for the Arts.
X-ALT-DESC;FMTTYPE=text/html:<a aria-describedby="js_8z1" aria-owns="js_8yy" data-hovercard="/ajax/hovercard/page.php?id=175739909114201" data-hovercard-position="below" href="https://www.facebook.com/fergusfallspubliclibrary/" id="js_8z2"><font color="#0066cc">Fergus Falls Public Library</font></a><br />\n<br />\n<span>Our weekly children&#39\;s programs will be in the parks again this summer! Stop by anytime during the Story Walk hours to enjoy a self-led picture book walk around the park\, make something creative at the Kaddatz Family Art Table\, and interact with other fun outdoor activities.<br />\n<br />\nThis year&#39\;s picture books will feature Minnesota authors and illustrators. A new picture book each week.<br />\n<br />\nThursday evening Story Walks will be held at Roosevelt Park in conjunction with AC4TA&#39\;s Concerts in the Park. </span><br />\n<br />\nThursdays<br />\n6:00 - 8:00pm<br />\nJune 14 &amp\; 21<br />\nJuly 5\, 12\, 19\, &amp\; 26 (July 12 is downtown)<br />\nAugust 9<br />\nLocation: Roosevelt Park<br />\n(in conjuction with AC4TA&#39\;s Concerts in Park)<br />\n<br />\nSupported by The Friends of the Fergus Falls Public Library\, Kaddatz Galleries\, Fergus Falls Department of Parks and Recreation\, and A Center for the Arts.
LOCATION:Roosevelt Park RANDOLPH Ave\, Fergus Falls\, Minnesota 56537
UID:e.314.50005
SEQUENCE:3
DTSTAMP:20260423T195744Z
URL:https://business.fergusfalls.com/events/details/thursday-summer-story-walks-07-26-2018-50005
END:VEVENT

END:VCALENDAR
