BEGIN:VCALENDAR
VERSION:2.0
PRODID:-//ChamberMaster//Event Calendar 2.0//EN
METHOD:PUBLISH
X-PUBLISHED-TTL:P3D
REFRESH-INTERVAL:P3D
CALSCALE:GREGORIAN
BEGIN:VEVENT
DTSTART:20160213T140000Z
DTEND:20160214T020000Z
X-MICROSOFT-CDO-ALLDAYEVENT:FALSE
SUMMARY:Topics in EMS: Medical Education Conference
DESCRIPTION:February 13\, 2016 Topics in EMS: Time Critical Calls Medical Education Conference 8:00am - 4:30pm - Conference 5:00pm to 6:00pm - "Cardiac Sprint" EMS Competition\, & Social hour 6:15 - Survivors and rescuers Banquet Bigwood Conference and Event Center 8 Hours of continuing medical education credits. On-line Registration includes breaks\, materials\, lunch buffet and dinner banquet\, and CE certificate. Registration closes when we reach capacity of conference center. This medical education conference is intended for ED physicians\, mid-level practitioners\, EMTs\, Paramedics\, RNs\, EMRs\, Firefighters\, Law enforcement personnel\, 911 communication staff\, and other healthcare and emergency professionals.
X-ALT-DESC;FMTTYPE=text/html:February 13\, 2016 Topics in EMS: Time Critical Calls Medical Education Conference 8:00am - 4:30pm - Conference 5:00pm to 6:00pm - &quot\;Cardiac Sprint&quot\; EMS Competition\, &amp\; Social hour 6:15 - Survivors and rescuers Banquet Bigwood Conference and Event Center 8 Hours of continuing medical education credits. On-line Registration includes breaks\, materials\, lunch buffet and dinner banquet\, and CE certificate. Registration closes when we reach capacity of conference center. This medical education conference is intended for ED physicians\, mid-level practitioners\, EMTs\, Paramedics\, RNs\, EMRs\, Firefighters\, Law enforcement personnel\, 911 communication staff\, and other healthcare and emergency professionals.
LOCATION:Bigwood Event Center\, Fergus Falls\, MN
UID:e.314.27803
SEQUENCE:3
DTSTAMP:20260425T201240Z
URL:https://business.fergusfalls.com/events/details/topics-in-ems-medical-education-conference-02-13-2016-27803
END:VEVENT

END:VCALENDAR
