BEGIN:VCALENDAR
VERSION:2.0
PRODID:-//ChamberMaster//Event Calendar 2.0//EN
METHOD:PUBLISH
X-PUBLISHED-TTL:P3D
REFRESH-INTERVAL:P3D
CALSCALE:GREGORIAN
BEGIN:VEVENT
DTSTART:20200208T140000Z
DTEND:20200209T000000Z
X-MICROSOFT-CDO-ALLDAYEVENT:FALSE
SUMMARY:Topics in EMS Medical Education Conference
DESCRIPTION:Topics in EMS:Time Critical Calls is a medical education conference focused on time sensitive conditions that EMS and hospital emergency departments often encounter. Join us for our 9th Annual medical education conference featuring national experts and clinicians. Conference Keynote Presentations: Comprehensive Airway\, Lab values & Ventilation Strategies - Rick Erickson\, NRP\, FP-C\, Creighton University Critical Care Coordinator Hyperacute and Acute Management of Stroke - Dr. Ven Dandamudi\, Essentia Health - Fargo\, ND Trauma Simulation Case Demonstration & Practice - University of Minnesota Cardiac Arrest Research\, 2020 Guidelines\, Innovations & Management Pediatric Case Presentations and Calculations - Interactive Taking it to the Streets Tim Eggebraaten - "Off Duty Chief" Tim is a sought after National speaker who is a gifted storyteller with a powerful and witty perspective on balance\, growth\, leadership and life. We Thank our Conference Sponsors\, Supporters\, and Vendors who continue to make this conference possible!
X-ALT-DESC;FMTTYPE=text/html:Topics in EMS:Time Critical Calls is a medical education conference focused on time sensitive conditions that EMS and hospital emergency departments often encounter. Join us for our 9th Annual medical education conference featuring national experts and clinicians. Conference Keynote Presentations: Comprehensive Airway\, Lab values &amp\; Ventilation Strategies - Rick Erickson\, NRP\, FP-C\, Creighton University Critical Care Coordinator Hyperacute and Acute Management of Stroke - Dr. Ven Dandamudi\, Essentia Health - Fargo\, ND Trauma Simulation Case Demonstration &amp\; Practice - University of Minnesota Cardiac Arrest Research\, 2020 Guidelines\, Innovations &amp\; Management Pediatric Case Presentations and Calculations - Interactive Taking it to the Streets Tim Eggebraaten - &quot\;Off Duty Chief&quot\; Tim is a sought after National speaker who is a gifted storyteller with a powerful and witty perspective on balance\, growth\, leadership and life. We Thank our Conference Sponsors\, Supporters\, and Vendors who continue to make this conference possible!
LOCATION:Country Inn & Suites - Bigwood Event Center Fergus Falls\, MN
UID:e.314.55789
SEQUENCE:3
DTSTAMP:20260422T155927Z
URL:https://business.fergusfalls.com/events/details/topics-in-ems-medical-education-conference-55789
END:VEVENT

END:VCALENDAR
