BEGIN:VCALENDAR
VERSION:2.0
PRODID:-//ChamberMaster//Event Calendar 2.0//EN
METHOD:PUBLISH
X-PUBLISHED-TTL:P3D
REFRESH-INTERVAL:P3D
CALSCALE:GREGORIAN
BEGIN:VEVENT
DTSTART:20160401T143000Z
DTEND:20160401T160000Z
X-MICROSOFT-CDO-ALLDAYEVENT:FALSE
SUMMARY:Tot Cafe: Playtime at the Library!
DESCRIPTION:Tot Cafe: Playtime at the Library!\n\nFridays\; 9:30 -11am\n\nThrough April 5\n\nAges 0-5
X-ALT-DESC;FMTTYPE=text/html:<div><span class="_5v1l _11s4"><a href="https://www.facebook.com/events/1097706666930323/?ref=1&amp\;action_history=%5B%7B%22surface%22%3A%22permalink%22%2C%22mechanism%22%3A%22surface%22%2C%22extra_data%22%3A%5B%5D%7D%5D"><font color="#0066cc">Tot Cafe: Playtime at the Library!<br />\nFridays</font></a>\; 9:30 -11am<br />\nThrough April 5<br />\nAges 0-5</span></div>\n
LOCATION:Fergus Falls Public Library 205 Hampden Ave\, Fergus Falls\, Minnesota 56537
UID:e.314.30923
SEQUENCE:3
DTSTAMP:20260425T163152Z
URL:https://business.fergusfalls.com/events/details/tot-cafe-playtime-at-the-library-04-01-2016-30923
END:VEVENT

END:VCALENDAR
