BEGIN:VCALENDAR
VERSION:2.0
PRODID:-//ChamberMaster//Event Calendar 2.0//EN
METHOD:PUBLISH
X-PUBLISHED-TTL:P3D
REFRESH-INTERVAL:P3D
CALSCALE:GREGORIAN
BEGIN:VEVENT
DTSTART:20180508T223000Z
DTEND:20180509T000000Z
X-MICROSOFT-CDO-ALLDAYEVENT:FALSE
SUMMARY:Touch-A-Truck -Vehicle Fair
DESCRIPTION:ECFE Touch-A-Truck
X-ALT-DESC;FMTTYPE=text/html:ECFE&nbsp\;Touch-A-Truck&nbsp\;
LOCATION:1519 Pebble Lake Road Fergus Falls MN (Same parking lot as temporary Library location)
UID:e.314.48856
SEQUENCE:3
DTSTAMP:20260423T235610Z
URL:https://business.fergusfalls.com/events/details/touch-a-truck-vehicle-fair-48856
END:VEVENT

END:VCALENDAR
