BEGIN:VCALENDAR
VERSION:2.0
PRODID:-//ChamberMaster//Event Calendar 2.0//EN
METHOD:PUBLISH
X-PUBLISHED-TTL:P3D
REFRESH-INTERVAL:P3D
CALSCALE:GREGORIAN
BEGIN:VEVENT
DTSTART:20160414T174500Z
DTEND:20160414T213000Z
X-MICROSOFT-CDO-ALLDAYEVENT:FALSE
SUMMARY:Tour of Senior Living Options
DESCRIPTION:Participants will visit four local options for senior living and learn about available services. The facilities to be featured will be announced. It is important to know the options available in our community before a crisis could necessitate a hurried move. Having these conversations as a family and planning for future possibilities can bring about much peace of mind. For more information an d to pre-register\, call OTC Public Health at 218-998-8327.
X-ALT-DESC;FMTTYPE=text/html:Participants will visit four local options for senior living and learn about available services. The facilities to be featured will be announced. It is important to know the options available in our community before a crisis could necessitate a hurried move. Having these conversations as a family and planning for future possibilities can bring about much peace of mind. For more information an d to pre-register\, call OTC Public Health at 218-998-8327.<br />\n&nbsp\;
LOCATION:Meet at Otter Tail Lake Room\, Government Services Center\, 530 Fir Avenue West\, Fergus Falls
UID:e.314.21710
SEQUENCE:3
DTSTAMP:20260425T163641Z
URL:https://business.fergusfalls.com/events/details/tour-of-senior-living-options-04-14-2016-21710
END:VEVENT

END:VCALENDAR
