BEGIN:VCALENDAR
VERSION:2.0
PRODID:-//ChamberMaster//Event Calendar 2.0//EN
METHOD:PUBLISH
X-PUBLISHED-TTL:P3D
REFRESH-INTERVAL:P3D
CALSCALE:GREGORIAN
BEGIN:VEVENT
DTSTART:20151210T184500Z
DTEND:20151210T223000Z
X-MICROSOFT-CDO-ALLDAYEVENT:FALSE
SUMMARY:Tour of Senior Living Options
DESCRIPTION:Tour of Senior Living Options will be offering a tour of Fergus Falls area Long Term Care and Nursing Homes. Participants include: Broen Home\, PioneerCare Center\, Woodland Lodge\, and the MN Veteran's Home of Fergus Falls. Special treats will be provided at each stop. Handicap accessible transportation beginning at the Government Services Center is available. Reserve your spot by calling Otter Tail County Public Health at (218) 998-8327 by Monday\, December 7th. The public is invited to attend. Reservations are requested. Sponsored by Otter Tail County Public Health and the Area Agency on Aging - Land of the Dancing Sky\, MN Veteran's Home\, Woodland Lodge\, PioneerCare Center\, and Broen Home and the Fergus Falls ISD 544 Community Education.
X-ALT-DESC;FMTTYPE=text/html:Tour of Senior Living Options will be offering a tour of Fergus Falls area Long Term Care and Nursing Homes. Participants include: Broen Home\, PioneerCare Center\, Woodland Lodge\, and the MN Veteran&#39\;s Home of Fergus Falls. Special treats will be provided at each stop. Handicap accessible transportation beginning at the Government Services Center is available.<strong> Reserve your spot by calling Otter Tail County Public Health at (218) 998-8327 by Monday\,&nbsp\;December&nbsp\;7th</strong>. The public is invited to attend. Reservations are requested. Sponsored by Otter Tail County Public Health and the Area Agency on Aging - Land of the Dancing Sky\, MN Veteran&#39\;s Home\, Woodland Lodge\, PioneerCare Center\, and Broen Home and the Fergus Falls ISD 544 Community Education.
LOCATION:Begins and ends at the Otter Tail County Government Services Center at 560 Fir Ave. W. in Fergus Falls
UID:e.314.26454
SEQUENCE:3
DTSTAMP:20260425T233808Z
URL:https://business.fergusfalls.com/events/details/tour-of-senior-living-options-12-10-2015-26454
END:VEVENT

END:VCALENDAR
