BEGIN:VCALENDAR
VERSION:2.0
PRODID:-//ChamberMaster//Event Calendar 2.0//EN
METHOD:PUBLISH
X-PUBLISHED-TTL:P3D
REFRESH-INTERVAL:P3D
CALSCALE:GREGORIAN
BEGIN:VEVENT
DTSTART:20161208T184500Z
DTEND:20161208T223000Z
X-MICROSOFT-CDO-ALLDAYEVENT:FALSE
SUMMARY:Tour of Senior Living Options - Nursing Homes
DESCRIPTION:Tour includes visiting four long term care centers in Fergus Falls including: MN Veteran's Home\, PioneerCare and Broen Home. Enjoy door to door transportation and treats and information at each stop.
X-ALT-DESC;FMTTYPE=text/html:Tour includes visiting four long term care centers in Fergus Falls including: MN Veteran&#39\;s Home\, PioneerCare and Broen Home. Enjoy door to door transportation and treats and information at each stop.
LOCATION:Tour begins at the Government Services Center
UID:e.314.28219
SEQUENCE:3
DTSTAMP:20260425T022859Z
URL:https://business.fergusfalls.com/events/details/tour-of-senior-living-options-nursing-homes-12-01-2016-28219
END:VEVENT

END:VCALENDAR
