BEGIN:VCALENDAR
VERSION:2.0
PRODID:-//ChamberMaster//Event Calendar 2.0//EN
METHOD:PUBLISH
X-PUBLISHED-TTL:P3D
REFRESH-INTERVAL:P3D
CALSCALE:GREGORIAN
BEGIN:VEVENT
DTSTART:20160728T183000Z
DTEND:20160728T200000Z
X-MICROSOFT-CDO-ALLDAYEVENT:FALSE
SUMMARY:"Town Hall Meeting" Solutions to the Skills Gap
DESCRIPTION:A Collaborative Solution to The Skills Gap showcasing Fergus Falls.\n\nCenter of the American Experiment\, a Twin Cities-based policy think tank will host an informal "best practices" town meeting 1:30-3\, Thursday\, July 28th in the Roosevelt Education Center Media Center. It will showcase how Fergus Falls' employers\, educators\, elected officials and civic activists have collaborated to address the skills gap.\n\nThis event is co-hosted by State Representative Bud Nornes\n\n\n\nCenter for the American Experiment\n\n8441 Wayzata Blvd. Suite 350\n\nGolden Valley\, MN 55426
X-ALT-DESC;FMTTYPE=text/html:A Collaborative Solution to The Skills Gap showcasing Fergus Falls.<br />\nCenter of the American Experiment\,&nbsp\;a Twin Cities-based policy think tank will&nbsp\;host an informal &ldquo\;best practices&rdquo\; town&nbsp\;meeting 1:30-3\, Thursday\, July 28th in&nbsp\;the Roosevelt Education Center Media&nbsp\;Center.&nbsp\;It will showcase how Fergus Falls&rsquo\;&nbsp\;employers\, educators\, elected officials&nbsp\;and civic activists have collaborated&nbsp\;to address the skills gap.<br />\nThis event is co-hosted by State Representative Bud Nornes<br />\n<br />\nCenter for the American Experiment<br />\n8441 Wayzata Blvd. Suite 350<br />\nGolden Valley\, MN 55426
LOCATION:Roosevelt Education Center Media Center (former Fergus Falls High School\, now Community Education) 340 Friberg Ave. Fergus Falls\, MN (Please park in Community Arena parking lot)
UID:e.314.32949
SEQUENCE:3
DTSTAMP:20260425T130238Z
URL:https://business.fergusfalls.com/events/details/town-hall-meeting-solutions-to-the-skills-gap-07-28-2016-32949
END:VEVENT

END:VCALENDAR
