BEGIN:VCALENDAR
VERSION:2.0
PRODID:-//ChamberMaster//Event Calendar 2.0//EN
METHOD:PUBLISH
X-PUBLISHED-TTL:P3D
REFRESH-INTERVAL:P3D
CALSCALE:GREGORIAN
BEGIN:VEVENT
DTSTART:20190525T000000Z
DTEND:20190525T030000Z
X-MICROSOFT-CDO-ALLDAYEVENT:FALSE
SUMMARY:Trace Adkins - Don’t Stop Tour - Shooting Star Casino
DESCRIPTION:Trace Adkins - Don't Stop Tour - Shooting Star Casino - Mahnomen\n\nTickets are on sale now!
X-ALT-DESC;FMTTYPE=text/html:<div class="_63ew" data-testid="event-permalink-details">Trace Adkins - Don&rsquo\;t Stop Tour - Shooting Star Casino -&nbsp\;Mahnomen<br />\n<span>Tickets are on sale now!</span></div>\n
LOCATION:Shooting Star Casino 777 Casino Rd\, Mahnomen\, Minnesota 56557
UID:e.314.53889
SEQUENCE:3
DTSTAMP:20260423T050654Z
URL:https://business.fergusfalls.com/events/details/trace-adkins-don-t-stop-tour-shooting-star-casino-53889
END:VEVENT

END:VCALENDAR
