BEGIN:VCALENDAR
VERSION:2.0
PRODID:-//ChamberMaster//Event Calendar 2.0//EN
METHOD:PUBLISH
X-PUBLISHED-TTL:P3D
REFRESH-INTERVAL:P3D
CALSCALE:GREGORIAN
BEGIN:VEVENT
DTSTART:20181202T003000Z
DTEND:20181202T004000Z
X-MICROSOFT-CDO-ALLDAYEVENT:FALSE
SUMMARY:Tree Lighting at Wright Park
DESCRIPTION:Tree Lighting in Wright Park w/ Fireworks to follow
X-ALT-DESC;FMTTYPE=text/html:Tree Lighting in Wright Park w/ Fireworks to follow
LOCATION:Wright Park Union Ave Fergus Falls
UID:e.314.51712
SEQUENCE:3
DTSTAMP:20260423T120815Z
URL:https://business.fergusfalls.com/events/details/tree-lighting-at-wright-park-51712
END:VEVENT

END:VCALENDAR
