BEGIN:VCALENDAR
VERSION:2.0
PRODID:-//ChamberMaster//Event Calendar 2.0//EN
METHOD:PUBLISH
X-PUBLISHED-TTL:P3D
REFRESH-INTERVAL:P3D
CALSCALE:GREGORIAN
BEGIN:VEVENT
DTSTART:20171031T210000Z
DTEND:20171031T223000Z
X-MICROSOFT-CDO-ALLDAYEVENT:FALSE
SUMMARY:Trick or Treat at LB Woodland Lodge
DESCRIPTION:Trick-or-Treaters are welcome to visit us at LB Woodland Lodge\, our Enhanced Assisted Living residence. Your kids will enjoy getting treats and our residents will love seeing all the costumes. Join us this Halloween!
X-ALT-DESC;FMTTYPE=text/html:<span class="_4n-j _fbReactionComponent__eventDetailsContentTags fsl" data-testid="event-permalink-details">Trick-or-Treaters are welcome to visit us at LB Woodland Lodge\, our Enhanced Assisted Living residence. Your kids will enjoy getting treats and our residents will love seeing all the costumes. Join us this Halloween!</span><br />\n&nbsp\;
LOCATION:LB Woodland Lodge 394 Woodland Dr Fergus Falls
UID:e.314.42894
SEQUENCE:3
DTSTAMP:20260424T110040Z
URL:https://business.fergusfalls.com/events/details/trick-or-treat-at-lb-woodland-lodge-42894
END:VEVENT

END:VCALENDAR
