BEGIN:VCALENDAR
VERSION:2.0
PRODID:-//ChamberMaster//Event Calendar 2.0//EN
METHOD:PUBLISH
X-PUBLISHED-TTL:P3D
REFRESH-INTERVAL:P3D
CALSCALE:GREGORIAN
BEGIN:VEVENT
DTSTART:20171031T140000Z
DTEND:20171101T010000Z
X-MICROSOFT-CDO-ALLDAYEVENT:FALSE
SUMMARY:Trick or Treat at the Library
DESCRIPTION:Come in costume and receive a non-candy treat!
X-ALT-DESC;FMTTYPE=text/html:Come in costume and receive a non-candy treat!
LOCATION:Fergus Falls Public Library 1505 Pebble Lake Road\, Fergus Falls\, MN
UID:e.314.42886
SEQUENCE:3
DTSTAMP:20260424T092539Z
URL:https://business.fergusfalls.com/events/details/trick-or-treat-at-the-library-42886
END:VEVENT

END:VCALENDAR
