BEGIN:VCALENDAR
VERSION:2.0
PRODID:-//ChamberMaster//Event Calendar 2.0//EN
METHOD:PUBLISH
X-PUBLISHED-TTL:P3D
REFRESH-INTERVAL:P3D
CALSCALE:GREGORIAN
BEGIN:VEVENT
DTSTART:20191031T140000Z
DTEND:20191101T010000Z
X-MICROSOFT-CDO-ALLDAYEVENT:FALSE
SUMMARY:Trick-or-Treat at the Library!
DESCRIPTION:Trick-or-Treat @ the Library!\n\nOctober 31\n\n9am - 8pm\n\nAll ages\n\n\n\nStop by the front desk in your costume for a Halloween Surprise!
X-ALT-DESC;FMTTYPE=text/html:<div class="_63ew" data-testid="event-permalink-details"><span>Trick-or-Treat @ the Library!<br />\nOctober 31<br />\n9am - 8pm<br />\nAll ages<br />\n<br />\nStop by the front desk in your costume for a Halloween Surprise!</span></div>\n
LOCATION:Fergus Falls Public Library 205 E Hampden Ave Fergus Falls
UID:e.314.55786
SEQUENCE:3
DTSTAMP:20260422T222113Z
URL:https://business.fergusfalls.com/events/details/trick-or-treat-at-the-library-55786
END:VEVENT

END:VCALENDAR
