BEGIN:VCALENDAR
VERSION:2.0
PRODID:-//ChamberMaster//Event Calendar 2.0//EN
METHOD:PUBLISH
X-PUBLISHED-TTL:P3D
REFRESH-INTERVAL:P3D
CALSCALE:GREGORIAN
BEGIN:VEVENT
DTSTART:20191031T210000Z
DTEND:20191031T223000Z
X-MICROSOFT-CDO-ALLDAYEVENT:FALSE
SUMMARY:Trick or Treat with LB Homes
DESCRIPTION:Trick or treat event for all children and youth at LB Homes!\n\nEnter at LB Broen Home - 824 S. Sheridan and take a guided walk through Broen\, Alcott Manor and Sheridan House for some delicious candy handed out by our awesome residents!\n\n\n\nThe Residents of Woodland Lodge will also be handing out candy!\n\n394 Woodland Dr.
X-ALT-DESC;FMTTYPE=text/html:<span>Trick or treat event for all children and youth at LB Homes!<br />\nEnter at LB Broen Home - 824 S. Sheridan and take a guided walk through Broen\, Alcott Manor and Sheridan House for some delicious candy handed out by our awesome residents!<br />\n<br />\nThe Residents of Woodland Lodge will also be handing out candy!<br />\n394 Woodland Dr.</span>
LOCATION:
UID:e.314.55784
SEQUENCE:3
DTSTAMP:20260422T222217Z
URL:https://business.fergusfalls.com/events/details/trick-or-treat-with-lb-homes-55784
END:VEVENT

END:VCALENDAR
