BEGIN:VCALENDAR
VERSION:2.0
PRODID:-//ChamberMaster//Event Calendar 2.0//EN
METHOD:PUBLISH
X-PUBLISHED-TTL:P3D
REFRESH-INTERVAL:P3D
CALSCALE:GREGORIAN
BEGIN:VEVENT
DTSTART:20151205T160000Z
DTEND:20151205T170000Z
X-MICROSOFT-CDO-ALLDAYEVENT:FALSE
SUMMARY:Trinity ladies Christmas Luncheon
DESCRIPTION:Saturday\, Dec. 5th\, 10:00 am Trinity ladies Christmas Luncheon.  Presentation on Lutheran Island Camp/Christ Serve Ranch (a science & learning center) followed by luncheon. \n\nTickets $7.00
X-ALT-DESC;FMTTYPE=text/html:<strong><span style="font-family: calibri\,sans-serif\;"><span style="color: black\;"><span style="font-size: medium\;">Saturday\, Dec. 5th\, 10:00 am Trinity ladies Christmas Luncheon.&nbsp\; Presentation on Lutheran Island Camp/Christ Serve Ranch (a science &amp\; learning center) followed by luncheon.&nbsp\;<br />\nTickets&mdash\;$7.00</span></span></span></strong><br />\n<br />\n&nbsp\;
LOCATION:
UID:e.314.27796
SEQUENCE:3
DTSTAMP:20260425T233019Z
URL:https://business.fergusfalls.com/events/details/trinity-ladies-christmas-luncheon-12-05-2015-27796
END:VEVENT

END:VCALENDAR
