BEGIN:VCALENDAR
VERSION:2.0
PRODID:-//ChamberMaster//Event Calendar 2.0//EN
METHOD:PUBLISH
X-PUBLISHED-TTL:P3D
REFRESH-INTERVAL:P3D
CALSCALE:GREGORIAN
BEGIN:VEVENT
DTSTART:20181229T030000Z
DTEND:20181229T070000Z
X-MICROSOFT-CDO-ALLDAYEVENT:FALSE
SUMMARY:Tripwire LIVE at the Z
DESCRIPTION:Tripwire will be performing LIVE at the Z103 Bar and Grill on Friday\, December 28th! Stop in for a drink and enjoy!
X-ALT-DESC;FMTTYPE=text/html:<div class="_63ew" data-testid="event-permalink-details"><span>Tripwire will be performing LIVE at the Z103 Bar and Grill on Friday\, December 28th! Stop in for a drink and enjoy!</span></div>\n
LOCATION:Z103 Bar & Grill
UID:e.314.52178
SEQUENCE:3
DTSTAMP:20260423T122056Z
URL:https://business.fergusfalls.com/events/details/tripwire-live-at-the-z-52178
END:VEVENT

END:VCALENDAR
