BEGIN:VCALENDAR
VERSION:2.0
PRODID:-//ChamberMaster//Event Calendar 2.0//EN
METHOD:PUBLISH
X-PUBLISHED-TTL:P3D
REFRESH-INTERVAL:P3D
CALSCALE:GREGORIAN
BEGIN:VEVENT
DTSTART:20160227T024500Z
DTEND:20160227T055000Z
X-MICROSOFT-CDO-ALLDAYEVENT:FALSE
SUMMARY:TripWire Live at the Z103
DESCRIPTION:Tripwire Fargo will be here at the Z103! Join Us!
X-ALT-DESC;FMTTYPE=text/html:<p><a class="profileLink" href="https://www.facebook.com/tripwire.fargo/"><font color="#0066cc">Tripwire Fargo</font></a> will be here at the Z103! Join Us!<br />\n&nbsp\;</p>\n
LOCATION:902 Frontier Dr Fergus Falls\, Minnesota
UID:e.314.31685
SEQUENCE:3
DTSTAMP:20260425T201002Z
URL:https://business.fergusfalls.com/events/details/tripwire-live-at-the-z103-02-26-2016-31685
END:VEVENT

END:VCALENDAR
