BEGIN:VCALENDAR
VERSION:2.0
PRODID:-//ChamberMaster//Event Calendar 2.0//EN
METHOD:PUBLISH
X-PUBLISHED-TTL:P3D
REFRESH-INTERVAL:P3D
CALSCALE:GREGORIAN
BEGIN:VEVENT
DTSTART:20180613T000000Z
DTEND:20180613T020000Z
X-MICROSOFT-CDO-ALLDAYEVENT:FALSE
SUMMARY:Trivia
DESCRIPTION:Fergus Falls Public Library presents trivia at Union Pizza. General trivia with a special geography round inspired by this year's Summer Reading Program theme "Reading Takes You Everywhere." Hosted by Emily Millard and Kelly Arntson.
X-ALT-DESC;FMTTYPE=text/html:<div class="_63ew" data-testid="event-permalink-details"><span>Fergus Falls Public Library presents trivia at Union Pizza. General trivia with a special geography round inspired by this year&#39\;s Summer Reading Program theme &quot\;Reading Takes You Everywhere.&quot\; Hosted by Emily Millard and Kelly Arntson.</span></div>\n
LOCATION:Union Pizza & Brewing Company Union Ave - Fergus Falls
UID:e.314.49929
SEQUENCE:3
DTSTAMP:20260424T143931Z
URL:https://business.fergusfalls.com/events/details/trivia-49929
END:VEVENT

END:VCALENDAR
