BEGIN:VCALENDAR
VERSION:2.0
PRODID:-//ChamberMaster//Event Calendar 2.0//EN
METHOD:PUBLISH
X-PUBLISHED-TTL:P3D
REFRESH-INTERVAL:P3D
CALSCALE:GREGORIAN
BEGIN:VEVENT
DTSTART:20160415T020000Z
DTEND:20160415T040000Z
X-MICROSOFT-CDO-ALLDAYEVENT:FALSE
SUMMARY:TRIVIA AT MABEL MURPHY'S
DESCRIPTION:Fergus Falls original Trivia Night! Over 30 years of thinking and drinking! Bring a friend or group and enjoy the trivia tradition at Mabel Murphy's.
X-ALT-DESC;FMTTYPE=text/html:Fergus Falls original Trivia Night! Over 30 years of thinking and drinking! Bring a friend or group and enjoy the trivia tradition at Mabel Murphy&#39\;s.
LOCATION:Mabel Murphy's
UID:e.314.30291
SEQUENCE:3
DTSTAMP:20260425T162907Z
URL:https://business.fergusfalls.com/events/details/trivia-at-mabel-murphy-s-04-14-2016-30291
END:VEVENT

END:VCALENDAR
