BEGIN:VCALENDAR
VERSION:2.0
PRODID:-//ChamberMaster//Event Calendar 2.0//EN
METHOD:PUBLISH
X-PUBLISHED-TTL:P3D
REFRESH-INTERVAL:P3D
CALSCALE:GREGORIAN
BEGIN:VEVENT
DTSTART:20160527T020000Z
DTEND:20160527T040000Z
X-MICROSOFT-CDO-ALLDAYEVENT:FALSE
SUMMARY:TRIVIA AT MABEL MURPHY'S
DESCRIPTION:Fergus Falls original Trivia Night! Over 30 years of thinking and drinking! Bring a friend or group and enjoy the trivia tradition at Mabel Murphy's.
X-ALT-DESC;FMTTYPE=text/html:Fergus Falls original Trivia Night! Over 30 years of thinking and drinking! Bring a friend or group and enjoy the trivia tradition at Mabel Murphy&#39\;s.
LOCATION:Mabel Murphy's
UID:e.314.30297
SEQUENCE:3
DTSTAMP:20260425T145151Z
URL:https://business.fergusfalls.com/events/details/trivia-at-mabel-murphy-s-05-26-2016-30297
END:VEVENT

END:VCALENDAR
