BEGIN:VCALENDAR
VERSION:2.0
PRODID:-//ChamberMaster//Event Calendar 2.0//EN
METHOD:PUBLISH
X-PUBLISHED-TTL:P3D
REFRESH-INTERVAL:P3D
CALSCALE:GREGORIAN
BEGIN:VEVENT
DTSTART:20190913T000000Z
DTEND:20190913T020000Z
X-MICROSOFT-CDO-ALLDAYEVENT:FALSE
SUMMARY:Trivia Night at Socials Bar & Grill
DESCRIPTION:Come on out and join us for some fun group trivia on Thursday nights. It is totally free and you can win great prizes!
X-ALT-DESC;FMTTYPE=text/html:Come on out and join us for some fun group trivia on Thursday nights. It is totally free and you can win great prizes!&nbsp\;
LOCATION:Socials Bar and Grill 1815 W. Lincoln\, Fergus Falls\, MN 56537
UID:e.314.41306
SEQUENCE:3
DTSTAMP:20260422T222824Z
URL:https://business.fergusfalls.com/events/details/trivia-night-at-socials-bar-grill-09-12-2019-41306
END:VEVENT

END:VCALENDAR
