BEGIN:VCALENDAR
VERSION:2.0
PRODID:-//ChamberMaster//Event Calendar 2.0//EN
METHOD:PUBLISH
X-PUBLISHED-TTL:P3D
REFRESH-INTERVAL:P3D
CALSCALE:GREGORIAN
BEGIN:VEVENT
DTSTART:20180721T000000Z
DTEND:20180721T033000Z
X-MICROSOFT-CDO-ALLDAYEVENT:FALSE
SUMMARY:Truck Pull
DESCRIPTION:This is our Third annual Fergus Falls Truck Pull!\n\n\n\nShow starts on July 20th @ 7:00 PM Friday July 20th\n\nOnly $10 admission for Adults\, $5 for children 10 and under.\n\n\n\nExpecting a big turn out!\n\nEvery thing from your basic daily driver farm truck gas or diesel and up to 2000 Horse Power fully dedicated pulling trucks!\n\nTwo tracks running all night for double the fun and less down time!\n\n\n\nBased on the amount of interest we have decided to break the pull in to two nights! The first night will be the tractor pull July 19th put on by CMP. and July 20th will be a full night of Pickup trucks of all calibers as well as Wild Card Pulling is bringing in their Modified Gas and Diesel lawn tractors to pull too. Being put on locally! On the 20th we will have 2 separate tracks for 3 plus hours of constant pulling to decrease down time and put on an awesome show!!! One track will be the wild and crazy lawn tractors and the other will be pickups.\n\n\n\n\n\nPullers please pre-register with Ryan Payson or Stephanie Payson if possible. Contact info listed below.\n\n\n\nThere are multiple different classes of pickups running.\n\n\n\nStreet Stock Gas EFI 5500#\n\nStreet Stock Gas EFI 7500#\n\nImproved Stock 4x4 Pickups 6200#\n\nPro-Stock 4x4 Pickups 6200#\n\nStreet Stock Diesel 8500# (Stock air and Fuel)\n\nWorkstock Diesel 68mm 8500#\n\nOpen Diesel 8200#\n\n\n\nClass rules posted below. They will also be on the West Otter Tail County Fair Website.\n\n\n\nEFI Gas Street Stock Rules: 5500 LB and 7500 LB\n\n\n\n1. No Hanging Weights\n\n2. No forced induction (Aftermarket Turbo's or superchargers) Exceptions would be made if the pickup came from the factory with a turbo or supercharger. Example Ford EcoBoost WOULD be allowed to run. We are allowing STOCK Ram EcoDiesel's to pull in this gas class. (They are only 3.0 V6)\n\n3. No open header exhaust.\n\n4. Must have a registration\, license plates and insurance card.\n\n5. Headlights and taillights must be in working order.\n\n6. Trucks must have working brakes.\n\n7. Tires must be DOT approved. Siping allowed. No grooving\, grinding\, sharpening\, or removal of rubber allowed.\n\n8. Must pull from factory bumper or class 3 style hitch (minimum 3 3/4" opening for hook. Hitch height not to exceed 24"). No fabricated hitches. (2wd Maximum hitch height 28'')\n\n9. No blocking of suspension (must have workable suspension). Airbags must be disconnected.\n\n10. Must be factory style fuel system.\n\n\n\nClass weights are designed to separate the half tons and the 3/4-1 tons. There will be no class jumping in the efi class.\n\n\n\n8500# Street Stock Diesel Rules\n\n\n\n1. No Hanging weights\n\n2. 26'' Hitch Height Maximum. Minimum 3 3/4" opening for hook.\n\n3. Must be Factory Air and Fuel for that exact year it came with. 100% Stock turbo. No modified turbo's or turbo piping. (Other than Down Pipe and Exhaust) Fuel System must be 100% stock other than a LIFT PUMP IS PERMITTED. No modified injectors\, no modified injection pumps ec.\n\n4. No blocking of suspension (must have workable suspension). Airbags must be disconnected\n\n5. No Traction bars (Ladder Bars)\n\n6. Lift kits are permitted (Just maintain the 26'' hitch height\n\n7. Number 1 or Number 2 Diesel only. No water or methanol injection. No propane\, No NOS ec...\n\n8. Tires must be DOT approved. Siping allowed. No grooving\, grinding\, sharpening\, or removal of rubber allowed.\n\n\n\n\n\nCustom tuning (Mechanical or Computer) is allowed. Exhaust\, Intake ec. is also allowed. If you have any questions about these rules or you need more insight please contact Ryan Payson @ 218-731-5029\n\n\n\n8500# Work Stock 68mm Rules:\n\n\n\n1. No Hanging weights\n\n2. 26'' Hitch Height Maximum. Minimum 3 3/4" opening for hook\n\n3. Single stock appearing turbo of 68mm or less in stock location. I.E.(No 2nd gen swaps) Turbos must use the stock pedestal\, no special adaptors\, or T-4 flanges. No S300 or S400 turbos\, no smooth bore turbos. 6.4 Ford Powerstroke is the only vehicle allowed factory twin turbos.\n\n4. Fuel is limited to number 1 or number 2 diesel only. No propane\, NOS\, Water Meth ec. Dual Fuellers are Allowed.\n\n5. Only air to air intercoolers are allowed\n\n6. Vehicles are recommended to be equipped to direct exhaust upward. The exhaust must exit rearward of the driver's compartment. No Hood Stacks.\n\n7. An OEM transmission\, transfer case\, and drive axles only.Stock style suspension only. Lift kits allowed. Rear traction bars allowed\n\n8. Radiators must be in the stock location and be of at least stock size. Electric cooling fans are permitted\n\n9. The OEM chassis is mandatory. 4-wheel factory working brakes. OEM suspension. No blocking suspension.\n\n10.The body must be the OEM truck body\, including the full bed floor. Complete interior and all working components. Fiberglass hoods and roll pans are permitted. All fiberglass hoods must be shielded on the underneath side with sheet metal or aluminum skin a minimum of .060 thick. A factory installed pickup bed or commercial style aftermarket bed must be installed.\n\n11. Batteries must be in stock location Radiators must be in the stock location and be of at least stock size. Electric cooling fans are permitted\n\n\n\nIf you have any questions about these rules or you need more insight please contact Ryan Payson @ 218-731-5029\n\n\n\n8200# Open Diesel Rules:\n\n\n\nThis is an open diesel class. RUN WHAT YOU BRUNG!\n\n\n\nIf it is a fully dedicated puller please be equipped with all necessary safety gear. For the full time pulling trucks that run this class you need to have a kill switch\, blanket\, drive shaft loops\, shields ec.\n\n\n\nThere is no limit for fuel\, Air\, injectables ec.\n\n\n\n35" tires max.\n\n26" hitch height.\n\n\n\nBIG PAYOUT Workstock and Street Stock diesel classes may enter in open diesel as well if they choose to compete for the open diesel payout but they most be able to comply with the rules of their original class.\n\n\n\nPlease refer to Red River Valley Plullers and Heartland Truck Pullers rules for:\n\nImproved Stock and Pro Stock classes Ryan Payson\n\n\n\n\n\nEFI Gas and Diesel Tech: Ryan Payson\n\nPro-Stock and Improved stock Tech\n\n\n\nFor further questions or concerns please call Ryan Payson at 218-731-5029.\n\nSee Less
X-ALT-DESC;FMTTYPE=text/html:<div class="_63es _63et">\n<div class="_63eu _63ev">\n<div class="_63ew" data-testid="event-permalink-details"><span>This is our Third annual Fergus Falls Truck Pull!<br />\n<br />\nShow starts on July 20th @ 7:00 PM Friday July 20th<br />\nOnly $10 admission for Adults\, $5 for children 10 and under.<br />\n<br />\nExpecting a big turn out!<br />\nEvery thing from your basic daily driver farm truck gas or diesel and up to 2000 Horse Power fully dedicated pulling trucks!<br />\nTwo tracks running all night for double the fun and less down time!<br />\n<br />\nBased on the amount of interest we have decided to break the pull in to two nights! The first night will be the tractor pull July 19th put on by CMP. and July 20th will be a full night of Pickup trucks of all calibers as well as Wild Card Pulling is bringing in their Modified Gas and Diesel lawn tractors to pull too. Being put on locally! On the 20th we will have 2 separate tracks for 3 plus hours of constant pulling to decrease down time and put on an awesome show!!! One track will be the wild and crazy lawn tractors and the other will be pickups.<br />\n<br />\n<br />\nPullers please pre-register with Ryan Payson or Stephanie Payson if possible. Contact info listed below.</span></div>\n\n<div class="_63ew" data-testid="event-permalink-details"><br />\n<span>There are multiple different classes of pickups running.<br />\n<br />\nStreet Stock Gas EFI 5500#<br />\nStreet Stock Gas EFI 7500#<br />\nImproved Stock 4x4 Pickups 6200#<br />\nPro-Stock 4x4 Pickups 6200#<br />\nStreet Stock Diesel 8500# (Stock air and Fuel)<br />\nWorkstock Diesel 68mm 8500#<br />\nOpen Diesel 8200#<br />\n<br />\nClass rules posted below. They will also be on the West Otter Tail County Fair Website.<br />\n<br />\nEFI Gas Street Stock Rules: 5500 LB and 7500 LB<br />\n<br />\n1. No Hanging Weights<br />\n2. No forced induction (Aftermarket Turbo&#39\;s or superchargers) Exceptions would be made if the pickup came from the factory with a turbo or supercharger. Example Ford EcoBoost WOULD be allowed to run. We are allowing STOCK Ram EcoDiesel&#39\;s to pull in this gas class. (They are only 3.0 V6)<br />\n3. No open header exhaust.<br />\n4. Must have a registration\, license plates and insurance card.<br />\n5. Headlights and taillights must be in working order.<br />\n6. Trucks must have working brakes.<br />\n7. Tires must be DOT approved. Siping allowed. No grooving\, grinding\, sharpening\, or removal of rubber allowed.<br />\n8. Must pull from factory bumper or class 3 style hitch (minimum 3 3/4&quot\; opening for hook. Hitch height not to exceed 24&quot\;). No fabricated hitches. (2wd Maximum hitch height 28&#39\;&#39\;)<br />\n9. No blocking of suspension (must have workable suspension). Airbags must be disconnected.<br />\n10. Must be factory style fuel system.<br />\n<br />\nClass weights are designed to separate the half tons and the 3/4-1 tons. There will be no class jumping in the efi class.<br />\n<br />\n8500# Street Stock Diesel Rules<br />\n<br />\n1. No Hanging weights<br />\n2. 26&#39\;&#39\; Hitch Height Maximum. Minimum 3 3/4&quot\; opening for hook.<br />\n3. Must be Factory Air and Fuel for that exact year it came with. 100% Stock turbo. No modified turbo&#39\;s or turbo piping. (Other than Down Pipe and Exhaust) Fuel System must be 100% stock other than a LIFT PUMP IS PERMITTED. No modified injectors\, no modified injection pumps ec.<br />\n4. No blocking of suspension (must have workable suspension). Airbags must be disconnected<br />\n5. No Traction bars (Ladder Bars)<br />\n6. Lift kits are permitted (Just maintain the 26&#39\;&#39\; hitch height<br />\n7. Number 1 or Number 2 Diesel only. No water or methanol injection. No propane\, No NOS ec...<br />\n8. Tires must be DOT approved. Siping allowed. No grooving\, grinding\, sharpening\, or removal of rubber allowed.<br />\n<br />\n<br />\nCustom tuning (Mechanical or Computer) is allowed. Exhaust\, Intake ec. is also allowed. If you have any questions about these rules or you need more insight please contact Ryan Payson @ 218-731-5029<br />\n<br />\n8500# Work Stock 68mm Rules:<br />\n<br />\n1. No Hanging weights<br />\n2. 26&#39\;&#39\; Hitch Height Maximum. Minimum 3 3/4&quot\; opening for hook<br />\n3. Single stock appearing turbo of 68mm or less in stock location. I.E.(No 2nd gen swaps) Turbos must use the stock pedestal\, no special adaptors\, or T-4 flanges. No S300 or S400 turbos\, no smooth bore turbos. 6.4 Ford Powerstroke is the only vehicle allowed factory twin turbos.<br />\n4. Fuel is limited to number 1 or number 2 diesel only. No propane\, NOS\, Water Meth ec. Dual Fuellers are Allowed.<br />\n5. Only air to air intercoolers are allowed<br />\n6. Vehicles are recommended to be equipped to direct exhaust upward. The exhaust must exit rearward of the driver&#39\;s compartment. No Hood Stacks.<br />\n7. An OEM transmission\, transfer case\, and drive axles only.Stock style suspension only. Lift kits allowed. Rear traction bars allowed<br />\n8. Radiators must be in the stock location and be of at least stock size. Electric cooling fans are permitted<br />\n9. The OEM chassis is mandatory. 4-wheel factory working brakes. OEM suspension. No blocking suspension.<br />\n10.The body must be the OEM truck body\, including the full bed floor. Complete interior and all working components. Fiberglass hoods and roll pans are permitted. All fiberglass hoods must be shielded on the underneath side with sheet metal or aluminum skin a minimum of .060 thick. A factory installed pickup bed or commercial style aftermarket bed must be installed.<br />\n11. Batteries must be in stock location Radiators must be in the stock location and be of at least stock size. Electric cooling fans are permitted<br />\n<br />\nIf you have any questions about these rules or you need more insight please contact Ryan Payson @ 218-731-5029<br />\n<br />\n8200# Open Diesel Rules:<br />\n<br />\nThis is an open diesel class. RUN WHAT YOU BRUNG!<br />\n<br />\nIf it is a fully dedicated puller please be equipped with all necessary safety gear. For the full time pulling trucks that run this class you need to have a kill switch\, blanket\, drive shaft loops\, shields ec.<br />\n<br />\nThere is no limit for fuel\, Air\, injectables ec.<br />\n<br />\n35&quot\; tires max.<br />\n26&quot\; hitch height.<br />\n<br />\nBIG PAYOUT Workstock and Street Stock diesel classes may enter in open diesel as well if they choose to compete for the open diesel payout but they most be able to comply with the rules of their original class.<br />\n<br />\nPlease refer to Red River Valley Plullers and Heartland Truck Pullers rules for:<br />\nImproved Stock and Pro Stock classes Ryan Payson<br />\n<br />\n<br />\nEFI Gas and Diesel Tech: Ryan Payson<br />\nPro-Stock and Improved stock Tech<br />\n<br />\nFor further questions or concerns please call Ryan Payson at 218-731-5029.</span></div>\n</div>\n<a class="_63eo" href="https://www.facebook.com/events/229435977640121/#" lesslabel="See Less" morelabel="See More"><span class="_554b">See Less</span></a></div>\n
LOCATION:West Otter Tail County Fair Box 352\, 1812 Pebble Lake Rd\,
UID:e.314.49985
SEQUENCE:3
DTSTAMP:20260423T211649Z
URL:https://business.fergusfalls.com/events/details/truck-pull-49985
END:VEVENT

END:VCALENDAR
