BEGIN:VCALENDAR
VERSION:2.0
PRODID:-//ChamberMaster//Event Calendar 2.0//EN
METHOD:PUBLISH
X-PUBLISHED-TTL:P3D
REFRESH-INTERVAL:P3D
CALSCALE:GREGORIAN
BEGIN:VEVENT
DTSTART:20180703T140000Z
DTEND:20180703T160000Z
X-MICROSOFT-CDO-ALLDAYEVENT:FALSE
SUMMARY:Tuesday Summer Story Walks
DESCRIPTION:Our weekly children's programs will be in the parks again this summer! Stop by anytime during the Story Walk hours to enjoy a self-led picture book walk around the park\, make something creative at the Kaddatz Family Art Table\, and interact with other fun outdoor activities.\n\n\n\nThis year's picture books will feature Minnesota authors and illustrators. A new picture book each week.\n\n\n\nFull Summer Story Walks Schedule:\n\n\n\nTuesdays\n\n9:00 - 11:00am\n\nJune 5 - July 24
X-ALT-DESC;FMTTYPE=text/html:<span>Our weekly children&#39\;s programs will be in the parks again this summer! Stop by anytime during the Story Walk hours to enjoy a self-led picture book walk around the park\, make something creative at the Kaddatz Family Art Table\, and interact with other fun outdoor activities.<br />\n<br />\nThis year&#39\;s picture books will feature Minnesota authors and illustrators. A new picture book each week.<br />\n<br />\nFull Summer Story Walks Schedule:<br />\n<br />\nTuesdays<br />\n9:00 - 11:00am<br />\nJune 5 - July 24</span>
LOCATION:N P Park Fergus Falls\, Minnesota 56537
UID:e.314.49994
SEQUENCE:3
DTSTAMP:20260423T211924Z
URL:https://business.fergusfalls.com/events/details/tuesday-summer-story-walks-07-03-2018-49994
END:VEVENT

END:VCALENDAR
