BEGIN:VCALENDAR
VERSION:2.0
PRODID:-//ChamberMaster//Event Calendar 2.0//EN
METHOD:PUBLISH
X-PUBLISHED-TTL:P3D
REFRESH-INTERVAL:P3D
CALSCALE:GREGORIAN
BEGIN:VEVENT
DTSTART:20171111T150000Z
DTEND:20171112T050000Z
X-MICROSOFT-CDO-ALLDAYEVENT:FALSE
SUMMARY:Turkey Trot
DESCRIPTION:The 8th Annual Fergus Falls Turkey Trot- 5k\, 10k\, and 1 mile will be held on Saturday November 11th at 9am. The race will be held at the Fergus Falls High School. The 1 mile fun run will start at 9am and the 5k-10k will start at 9:30am. You are encouraged to dress up and there will be prizes for Top 3 finishers in each race and for a costume. This will also be the final race in the Fergus Falls Race series for 2017. The race is sponsored by Kindred Family Focus
X-ALT-DESC;FMTTYPE=text/html:<span class="_4n-j _fbReactionComponent__eventDetailsContentTags fsl" data-testid="event-permalink-details">The 8th Annual Fergus Falls Turkey Trot- 5k\, 10k\, and 1 mile will be held on Saturday November 11th at 9am. The race will be held at the Fergus Falls High School. The 1 mile fun run will start at 9am and the 5k-10k will start at 9:30am. You are encouraged to dress up and there will be prizes for Top 3 finishers in each race and for a costume. This will also be the final race in the Fergus Falls Race series for 2017. The race is sponsored by Kindred Family Focus</span>
LOCATION:Fergus Falls Public Schools 601 Randolph Ave
UID:e.314.42891
SEQUENCE:3
DTSTAMP:20260424T073626Z
URL:https://business.fergusfalls.com/events/details/turkey-trot-42891
END:VEVENT

END:VCALENDAR
