BEGIN:VCALENDAR
VERSION:2.0
PRODID:-//ChamberMaster//Event Calendar 2.0//EN
METHOD:PUBLISH
X-PUBLISHED-TTL:P3D
REFRESH-INTERVAL:P3D
CALSCALE:GREGORIAN
BEGIN:VEVENT
DTSTART:20161112T150000Z
DTEND:20161113T060000Z
X-MICROSOFT-CDO-ALLDAYEVENT:FALSE
SUMMARY:Turkey Trot 5k & 10k
DESCRIPTION:The Fergus Falls Turkey Trot 5k & 10k is taking place at 9am Saturday November 12th at the Fergus Falls High School. There will be a 5k & 10k race. There will be prizes for the top 3 finishers in each race and the top 3 for the best costumes. All Proceeds will go to The Kindred Family Focus\, which is a non-profit care and adoption agency. For more information check the website below. Hope to see you there on Nov. 12th
X-ALT-DESC;FMTTYPE=text/html:<span class="_4n-j fsl">The Fergus Falls Turkey Trot 5k &amp\; 10k is taking place at 9am Saturday November 12th at the Fergus Falls High School. There will be a 5k &amp\; 10k race. There will be prizes for the top 3 finishers in each race and the top 3 for the best costumes. All Proceeds will go to The Kindred Family Focus\, which is a non-profit care and adoption agency. For more information check the website below. Hope to see you there on Nov. 12th</span>
LOCATION:Fergus Falls High School Fergus Falls\, Minnesota 56537
UID:e.314.36238
SEQUENCE:3
DTSTAMP:20260425T035634Z
URL:https://business.fergusfalls.com/events/details/turkey-trot-5k-10k-36238
END:VEVENT

END:VCALENDAR
