BEGIN:VCALENDAR
VERSION:2.0
PRODID:-//ChamberMaster//Event Calendar 2.0//EN
METHOD:PUBLISH
X-PUBLISHED-TTL:P3D
REFRESH-INTERVAL:P3D
CALSCALE:GREGORIAN
BEGIN:VEVENT
DTSTART:20171111T150000Z
DTEND:20171111T180000Z
X-MICROSOFT-CDO-ALLDAYEVENT:FALSE
SUMMARY:Turkey Trot 5K\, 10K\, and 1 Mile
DESCRIPTION:Join us for the 8th Annual Turkey Trot 5K\, 10K\, and 1 Mile Fun Run! Prizes for the top finishers and for best costume!
X-ALT-DESC;FMTTYPE=text/html:Join us for the 8th Annual Turkey Trot 5K\, 10K\, and 1 Mile Fun Run! Prizes for the top finishers and for best costume!
LOCATION:Kennedy Secondary School Foyer\, Fergus Falls\, MN
UID:e.314.42897
SEQUENCE:3
DTSTAMP:20260424T074528Z
URL:https://business.fergusfalls.com/events/details/turkey-trot-5k-10k-and-1-mile-42897
END:VEVENT

END:VCALENDAR
