BEGIN:VCALENDAR
VERSION:2.0
PRODID:-//ChamberMaster//Event Calendar 2.0//EN
METHOD:PUBLISH
X-PUBLISHED-TTL:P3D
REFRESH-INTERVAL:P3D
CALSCALE:GREGORIAN
BEGIN:VEVENT
DTSTART:20170204T020000Z
DTEND:20170204T040000Z
X-MICROSOFT-CDO-ALLDAYEVENT:FALSE
SUMMARY:Tynan Acoustic at Union Pizza & Brewing
DESCRIPTION:orn and raised in Fergus Falls\, Minnesota\, Tynan is a singer-songwriter who has been performing a wide array of live music with different bands in the region since age 14. He is currently a singer & guitarist for local band 'Giving Back Jack' and also enjoys recording original songs. Tynan enjoys sharing his love of music with his wife Kate and daughters Elly (6) & Maya (4).
X-ALT-DESC;FMTTYPE=text/html:orn and raised in Fergus Falls\, Minnesota\, Tynan is a singer-songwriter who has been performing a wide array of live music with different bands in the region since age 14. He is currently a singer &amp\; guitarist for local band &lsquo\;Giving Back Jack&rsquo\; and also enjoys recording original songs. Tynan enjoys sharing his love of music with his wife Kate and daughters Elly (6) &amp\; Maya (4).
LOCATION:Union Pizza & Brewing CO. 114 S Union Ave\,
UID:e.314.37245
SEQUENCE:3
DTSTAMP:20260425T003344Z
URL:https://business.fergusfalls.com/events/details/tynan-acoustic-at-union-pizza-brewing-37245
END:VEVENT

END:VCALENDAR
