BEGIN:VCALENDAR
VERSION:2.0
PRODID:-//ChamberMaster//Event Calendar 2.0//EN
METHOD:PUBLISH
X-PUBLISHED-TTL:P3D
REFRESH-INTERVAL:P3D
CALSCALE:GREGORIAN
BEGIN:VEVENT
DTSTART:20171010T133000Z
DTEND:20171010T170000Z
X-MICROSOFT-CDO-ALLDAYEVENT:FALSE
SUMMARY:UI/DOR Tax Seminar
DESCRIPTION:On behalf of the Unemployment Insurance program\, I would like to extend an invitation for your members to attend one of the following seminars. Representatives from the Minnesota Department of Revenue and the Unemployment Insurance Program are hosting upcoming FREE seminars in Moorhead and Alexandria\, Minnesota. The presentation includes an overview of Withholding Tax and Unemployment Insurance\, and will provide information you need to comply with state tax laws in these areas. Withholding Tax topics:   Voluntary Disclosure Program   Employer Resources   Withholding Tax Requirements   e-Services System   File and Pay Responsibilities Unemployment Insurance (UI) topics:   Unemployment Insurance Requirements   Independent Contractor or Employee?   Quarterly Wage Detail Reporting   Tax Rate Determinations   Costly Mistakes Employers Make   How to Control UI Costs Who should attend? Business owners\, bookkeepers\, and accountants who need a working knowledge of Withholding Tax and the Unemployment Insurance Program. When and where are the seminars? Moorhead Date: Tuesday\, October 10\, 2017 Time: 8:30 a.m. to 12:00 p.m. Location: Concordia College\, Offutt School of Business   Barry Auditorium\, 1310 8th Street S\, Grant Center\, Moorhead\, MN 56562 Fee: No fee\, but advanced registration is required. Register: https://emp-tax-overview-moorhead-mn-10102017.eventbrite.com Alexandria Date: Wednesday\, October 11\, 2017 Time: 8:30 a.m. to 12:00 p.m. Location: Alexandria Technical and Community College\, 1601 Jefferson Street\, Alexandria\, MN 56308 Fee: No fee\, but advanced registration is required. Register: https://emp-tax-overview-alexandria-mn-10112017.eventbrite.com
X-ALT-DESC;FMTTYPE=text/html:On behalf of the Unemployment Insurance program\, I would like to extend an invitation for your members to attend one of the following seminars. Representatives from the Minnesota Department of Revenue and the Unemployment Insurance Program are hosting upcoming FREE seminars in Moorhead and Alexandria\, Minnesota. The presentation includes an overview of Withholding Tax and Unemployment Insurance\, and will provide information you need to comply with state tax laws in these areas. Withholding Tax topics: &bull\; Voluntary Disclosure Program &bull\; Employer Resources &bull\; Withholding Tax Requirements &bull\; e-Services System &bull\; File and Pay Responsibilities Unemployment Insurance (UI) topics: &bull\; Unemployment Insurance Requirements &bull\; Independent Contractor or Employee? &bull\; Quarterly Wage Detail Reporting &bull\; Tax Rate Determinations &bull\; Costly Mistakes Employers Make &bull\; How to Control UI Costs Who should attend? Business owners\, bookkeepers\, and accountants who need a working knowledge of Withholding Tax and the Unemployment Insurance Program. When and where are the seminars? Moorhead Date: Tuesday\, October 10\, 2017 Time: 8:30 a.m. to 12:00 p.m. Location: Concordia College\, Offutt School of Business &ndash\; Barry Auditorium\, 1310 8th Street S\, Grant Center\, Moorhead\, MN 56562 Fee: No fee\, but advanced registration is required. Register: https://emp-tax-overview-moorhead-mn-10102017.eventbrite.com Alexandria Date: Wednesday\, October 11\, 2017 Time: 8:30 a.m. to 12:00 p.m. Location: Alexandria Technical and Community College\, 1601 Jefferson Street\, Alexandria\, MN 56308 Fee: No fee\, but advanced registration is required. Register: https://emp-tax-overview-alexandria-mn-10112017.eventbrite.com
LOCATION:Moorhead\, Concordia College-- details above in description
UID:e.314.42652
SEQUENCE:3
DTSTAMP:20260424T092534Z
URL:https://business.fergusfalls.com/events/details/ui-dor-tax-seminar-42652
END:VEVENT

END:VCALENDAR
