BEGIN:VCALENDAR
VERSION:2.0
PRODID:-//ChamberMaster//Event Calendar 2.0//EN
METHOD:PUBLISH
X-PUBLISHED-TTL:P3D
REFRESH-INTERVAL:P3D
CALSCALE:GREGORIAN
BEGIN:VEVENT
DTSTART;VALUE=DATE:20210626
DTEND;VALUE=DATE:20210627
TRANSP:TRANSPARENT
X-MICROSOFT-CDO-ALLDAYEVENT:TRUE
SUMMARY:ULTIMATE LAKES AREA THRIFT STORE CRAWL
DESCRIPTION:Have some fun under the sun with our ULTIMATE LAKES AREA THRIFT STORE CRAWL\, an event that will last the entire month of June!  Plan some outings with the ladies or that special someone and shop\, explore\, socialize and win fabulous prizes!  Pick up your passport book at any one of the participating non-profit thrift stores and you are on your way:\n\nSecond Hand Thrift\, Ashby\n\nBits & Pieces Thrift & Tack\, Breckenridge\n\nThrifty Horizons\, Breckenridge\n\nBargain Bazaar\, Elbow Lake\n\nSalvation Army Family Store\, Fergus Falls\n\nThe Welcome House Thrift Store\, Fergus Falls\n\nSalvation Army Family Store\, Henning\n\nRe-Use-It\, Perham\n\n \n\n The Thrift Store Crawl is intended to build awareness and support of our non-profit thrift stores in the lakes area.  Now you can ?shop with purpose!?  For more information\, visit our Facebook page.
X-ALT-DESC;FMTTYPE=text/html:<span style="font-size:12.0pt">Have some fun under the sun with our ULTIMATE LAKES AREA THRIFT STORE CRAWL\, an event that will last the entire month of June!&nbsp\; Plan some outings with the ladies or that special someone and shop\, explore\, socialize and win fabulous prizes!&nbsp\; Pick up your passport book at any one of the participating non-profit thrift stores and you are on your way:</span><br />\n<span style="font-size:12.0pt">Second Hand Thrift\, Ashby</span><br />\n<span style="font-size:12.0pt">Bits &amp\; Pieces Thrift &amp\; Tack\, Breckenridge</span><br />\n<span style="font-size:12.0pt">Thrifty Horizons\, Breckenridge</span><br />\n<span style="font-size:12.0pt">Bargain Bazaar\, Elbow Lake</span><br />\n<span style="font-size:12.0pt">Salvation Army Family Store\, Fergus Falls</span><br />\n<span style="font-size:12.0pt">The Welcome House Thrift Store\, Fergus Falls</span><br />\n<span style="font-size:12.0pt">Salvation Army Family Store\, Henning</span><br />\n<span style="font-size:12.0pt">Re-Use-It\, Perham</span><br />\n&nbsp\;<br />\n&nbsp\;The Thrift Store Crawl is intended to build awareness and support of our non-profit thrift stores in the lakes area.&nbsp\; Now you can <em>?shop with</em> <em>purpose!?</em> &nbsp\;For more information\, visit our Facebook page.
LOCATION:Participating Non-Profit Thrift Stores: Second Hand Thrift\, Ashby Bits & Pieces Thrift & Tack\, Breckenridge Thrifty Horizons\, Breckenridge Bargain Bazaar\, Elbow Lake Salvation Army Family Store\, Fergus Falls The Welcome House Thrift Store\, Fergus Falls Salvation Army Family Store\, Henning Re-Use-It\, Perham
UID:e.314.62104
SEQUENCE:3
DTSTAMP:20260421T135625Z
URL:https://business.fergusfalls.com/events/details/ultimate-lakes-area-thrift-store-crawl-06-26-2021-62104
END:VEVENT

END:VCALENDAR
