BEGIN:VCALENDAR
VERSION:2.0
PRODID:-//ChamberMaster//Event Calendar 2.0//EN
METHOD:PUBLISH
X-PUBLISHED-TTL:P3D
REFRESH-INTERVAL:P3D
CALSCALE:GREGORIAN
BEGIN:VEVENT
DTSTART:20180918T174500Z
DTEND:20180918T200000Z
X-MICROSOFT-CDO-ALLDAYEVENT:FALSE
SUMMARY:Understanding Cognitive Changes in Parkinson’s Disease: A Balancing Act
DESCRIPTION:What are the cognitive changes in Parkinson's? What are the emotional and behavioral changes in PD? Join us to hear about the changes to your attention\, executive functioning\, memory and language. Learn strategies and coping techniques to stay living well with Parkinson's. Tuesday\, September 18 1:00   3:00pm El Zagal Shrine Temple 1429 North 3rd Street\, Fargo\, North Dakota 58102 Dr. Tanya Harlow\, Movement Disorder Specialist\, Sanford Health Dr. Susan Wood\, Neuropsychologist\, Sanford Health 12:45   Check-in 1:00   Welcome from PFM -Angela Schlesinger 1:10   Dr. Tanya Harlow 2:00   Break 2:10   Dr. Susan Wood 3:00   Closing remarks This event and refreshments is provided at no cost through our sponsors. Registration is required. Please RSVP by Friday\, September 14\, 2018. Register at parkinson.org/minnesota/events or email minnesotainfo@parkinson.org or call 763-545-1272.
X-ALT-DESC;FMTTYPE=text/html:What are the cognitive changes in Parkinson&#39\;s? What are the emotional and behavioral changes in PD? Join us to hear about the changes to your attention\, executive functioning\, memory and language. Learn strategies and coping techniques to stay living well with Parkinson&#39\;s. Tuesday\, September 18 1:00 &ndash\; 3:00pm El Zagal Shrine Temple 1429 North 3rd Street\, Fargo\, North Dakota 58102 Dr. Tanya Harlow\, Movement Disorder Specialist\, Sanford Health Dr. Susan Wood\, Neuropsychologist\, Sanford Health 12:45 &ndash\; Check-in 1:00 &ndash\; Welcome from PFM -Angela Schlesinger 1:10 &ndash\; Dr. Tanya Harlow 2:00 &ndash\; Break 2:10 &ndash\; Dr. Susan Wood 3:00 &ndash\; Closing remarks This event and refreshments is provided at no cost through our sponsors. Registration is required. Please RSVP by Friday\, September 14\, 2018. Register at parkinson.org/minnesota/events or email minnesotainfo@parkinson.org or call 763-545-1272.
LOCATION:El Zagal Shrine Temple 1429 North 3rd Street\, Fargo\, North Dakota 58102
UID:e.314.50319
SEQUENCE:3
DTSTAMP:20260423T165037Z
URL:https://business.fergusfalls.com/events/details/understanding-cognitive-changes-in-parkinson-s-disease-a-balancing-act-50319
END:VEVENT

END:VCALENDAR
