BEGIN:VCALENDAR
VERSION:2.0
PRODID:-//ChamberMaster//Event Calendar 2.0//EN
METHOD:PUBLISH
X-PUBLISHED-TTL:P3D
REFRESH-INTERVAL:P3D
CALSCALE:GREGORIAN
BEGIN:VEVENT
DTSTART:20160113T173000Z
DTEND:20160113T190000Z
X-MICROSOFT-CDO-ALLDAYEVENT:FALSE
SUMMARY:United Way Community Impact Luncheon
DESCRIPTION:United Way Community Impact Luncheon\n\n\n\nThe United Way Community Impact Luncheon will take place on January 13th\, 2016 (11am)\, at the Bigwood Event Center in Fergus Falls. At this event\, United Way will highlight and recognize businesses\, corporations\, and individuals who improved lives in Otter Tail County by donating to the 2015 United Way Giving Campaign or volunteering with United Way.\n\n\n\nAward categories will include:\n\n Top Corporation Awards (Top Business/Corporation Donation to UW Giving Campaign)\n\n Community Hero Awards (Top Volunteers with UW)\n\n Committed to Improving Community Awards\n\n Top Employee Campaigns (Highest percentage of employees participating in UW Giving Campaign)
X-ALT-DESC;FMTTYPE=text/html:<div class="_6a _6b" style="height: 48px\;">&nbsp\;</div>\n\n<div class="_6a _6b">\n<div><strong><span class="_5v1l _11s4"><a href="https://www.facebook.com/events/962909890448236/?ref=1&amp\;action_history=%5B%7B%22surface%22%3A%22permalink%22%2C%22mechanism%22%3A%22surface%22%2C%22extra_data%22%3A%5B%5D%7D%5D"><font color="#0066cc">United Way Community Impact Luncheon</font></a></span></strong><br />\n<br />\n<span class="fsl">The United Way Community Impact Luncheon will take place on January 13th\, 2016 (11am)\, at the Bigwood Event Center in Fergus Falls. At this event\, United Way will highlight and recognize businesses\, corporations\, and individuals who improved lives in Otter Tail County by donating to the 2015 United Way Giving Campaign or volunteering with United Way.<br />\n<br />\nAward categories will include:<br />\n&bull\;Top Corporation Awards (Top Business/Corporation Donation to UW Giving Campaign)<br />\n&bull\;Community Hero Awards (Top Volunteers with UW)<br />\n&bull\;Committed to Improving Community Awards<br />\n&bull\;Top Employee Campaigns (Highest percentage of employees participating in UW Giving Campaign)</span></div>\n</div>\n
LOCATION:Bigwood Event Center 925 Western Ave
UID:e.314.27970
SEQUENCE:3
DTSTAMP:20260425T215451Z
URL:https://business.fergusfalls.com/events/details/united-way-community-impact-luncheon-01-13-2016-27970
END:VEVENT

END:VCALENDAR
